BEGIN:VCALENDAR
VERSION:2.0
PRODID:-//Yee Haw Saloon - ECPv6.15.20//NONSGML v1.0//EN
CALSCALE:GREGORIAN
METHOD:PUBLISH
X-WR-CALNAME:Yee Haw Saloon
X-ORIGINAL-URL:https://yeehawsaloon.com
X-WR-CALDESC:Events for Yee Haw Saloon
REFRESH-INTERVAL;VALUE=DURATION:PT1H
X-Robots-Tag:noindex
X-PUBLISHED-TTL:PT1H
BEGIN:VTIMEZONE
TZID:UTC
BEGIN:STANDARD
TZOFFSETFROM:+0000
TZOFFSETTO:+0000
TZNAME:UTC
DTSTART:20250101T000000
END:STANDARD
END:VTIMEZONE
BEGIN:VEVENT
DTSTART;TZID=UTC:20260717T180000
DTEND;TZID=UTC:20260717T235900
DTSTAMP:20260423T233147
CREATED:20250105T041014Z
LAST-MODIFIED:20251206T023551Z
UID:10000896-1784311200-1784332740@yeehawsaloon.com
SUMMARY:Karaoke Night!
DESCRIPTION:Join us and enjoy a little Karaoke and dancing on our beautiful wide open dance floor!
URL:https://yeehawsaloon.com/event/karaoke-nights-2-2/2026-07-17/
LOCATION:Yee Haw Saloon\, 3915 US-290\, Fredericksburg\, TX\, 78624\, United States
CATEGORIES:Karaoke
ATTACH;FMTTYPE=image/png:https://yeehawsaloon.com/wp-content/uploads/2025/01/Yee-Haw-Saloon-Karaoke.png
END:VEVENT
BEGIN:VEVENT
DTSTART;TZID=UTC:20260718T180000
DTEND;TZID=UTC:20260718T235900
DTSTAMP:20260423T233147
CREATED:20250105T041014Z
LAST-MODIFIED:20251206T023551Z
UID:10000274-1784397600-1784419140@yeehawsaloon.com
SUMMARY:Karaoke Night!
DESCRIPTION:Join us and enjoy a little Karaoke and dancing on our beautiful wide open dance floor!
URL:https://yeehawsaloon.com/event/karaoke-nights-2-2/2026-07-18/
LOCATION:Yee Haw Saloon\, 3915 US-290\, Fredericksburg\, TX\, 78624\, United States
CATEGORIES:Karaoke
ATTACH;FMTTYPE=image/png:https://yeehawsaloon.com/wp-content/uploads/2025/01/Yee-Haw-Saloon-Karaoke.png
END:VEVENT
BEGIN:VEVENT
DTSTART;TZID=UTC:20260724T180000
DTEND;TZID=UTC:20260724T235900
DTSTAMP:20260423T233147
CREATED:20250105T041014Z
LAST-MODIFIED:20251206T023551Z
UID:10000897-1784916000-1784937540@yeehawsaloon.com
SUMMARY:Karaoke Night!
DESCRIPTION:Join us and enjoy a little Karaoke and dancing on our beautiful wide open dance floor!
URL:https://yeehawsaloon.com/event/karaoke-nights-2-2/2026-07-24/
LOCATION:Yee Haw Saloon\, 3915 US-290\, Fredericksburg\, TX\, 78624\, United States
CATEGORIES:Karaoke
ATTACH;FMTTYPE=image/png:https://yeehawsaloon.com/wp-content/uploads/2025/01/Yee-Haw-Saloon-Karaoke.png
END:VEVENT
BEGIN:VEVENT
DTSTART;TZID=UTC:20260725T180000
DTEND;TZID=UTC:20260725T235900
DTSTAMP:20260423T233147
CREATED:20250105T041014Z
LAST-MODIFIED:20251206T023551Z
UID:10000275-1785002400-1785023940@yeehawsaloon.com
SUMMARY:Karaoke Night!
DESCRIPTION:Join us and enjoy a little Karaoke and dancing on our beautiful wide open dance floor!
URL:https://yeehawsaloon.com/event/karaoke-nights-2-2/2026-07-25/
LOCATION:Yee Haw Saloon\, 3915 US-290\, Fredericksburg\, TX\, 78624\, United States
CATEGORIES:Karaoke
ATTACH;FMTTYPE=image/png:https://yeehawsaloon.com/wp-content/uploads/2025/01/Yee-Haw-Saloon-Karaoke.png
END:VEVENT
BEGIN:VEVENT
DTSTART;TZID=UTC:20260731T180000
DTEND;TZID=UTC:20260731T235900
DTSTAMP:20260423T233147
CREATED:20250105T041014Z
LAST-MODIFIED:20251206T023551Z
UID:10000898-1785520800-1785542340@yeehawsaloon.com
SUMMARY:Karaoke Night!
DESCRIPTION:Join us and enjoy a little Karaoke and dancing on our beautiful wide open dance floor!
URL:https://yeehawsaloon.com/event/karaoke-nights-2-2/2026-07-31/
LOCATION:Yee Haw Saloon\, 3915 US-290\, Fredericksburg\, TX\, 78624\, United States
CATEGORIES:Karaoke
ATTACH;FMTTYPE=image/png:https://yeehawsaloon.com/wp-content/uploads/2025/01/Yee-Haw-Saloon-Karaoke.png
END:VEVENT
BEGIN:VEVENT
DTSTART;TZID=UTC:20260801T180000
DTEND;TZID=UTC:20260801T235900
DTSTAMP:20260423T233147
CREATED:20250105T041014Z
LAST-MODIFIED:20251206T023551Z
UID:10000276-1785607200-1785628740@yeehawsaloon.com
SUMMARY:Karaoke Night!
DESCRIPTION:Join us and enjoy a little Karaoke and dancing on our beautiful wide open dance floor!
URL:https://yeehawsaloon.com/event/karaoke-nights-2-2/2026-08-01/
LOCATION:Yee Haw Saloon\, 3915 US-290\, Fredericksburg\, TX\, 78624\, United States
CATEGORIES:Karaoke
ATTACH;FMTTYPE=image/png:https://yeehawsaloon.com/wp-content/uploads/2025/01/Yee-Haw-Saloon-Karaoke.png
END:VEVENT
BEGIN:VEVENT
DTSTART;TZID=UTC:20260807T180000
DTEND;TZID=UTC:20260807T235900
DTSTAMP:20260423T233147
CREATED:20250105T041014Z
LAST-MODIFIED:20251206T023551Z
UID:10000899-1786125600-1786147140@yeehawsaloon.com
SUMMARY:Karaoke Night!
DESCRIPTION:Join us and enjoy a little Karaoke and dancing on our beautiful wide open dance floor!
URL:https://yeehawsaloon.com/event/karaoke-nights-2-2/2026-08-07/
LOCATION:Yee Haw Saloon\, 3915 US-290\, Fredericksburg\, TX\, 78624\, United States
CATEGORIES:Karaoke
ATTACH;FMTTYPE=image/png:https://yeehawsaloon.com/wp-content/uploads/2025/01/Yee-Haw-Saloon-Karaoke.png
END:VEVENT
BEGIN:VEVENT
DTSTART;TZID=UTC:20260808T180000
DTEND;TZID=UTC:20260808T235900
DTSTAMP:20260423T233147
CREATED:20250105T041014Z
LAST-MODIFIED:20251206T023551Z
UID:10000277-1786212000-1786233540@yeehawsaloon.com
SUMMARY:Karaoke Night!
DESCRIPTION:Join us and enjoy a little Karaoke and dancing on our beautiful wide open dance floor!
URL:https://yeehawsaloon.com/event/karaoke-nights-2-2/2026-08-08/
LOCATION:Yee Haw Saloon\, 3915 US-290\, Fredericksburg\, TX\, 78624\, United States
CATEGORIES:Karaoke
ATTACH;FMTTYPE=image/png:https://yeehawsaloon.com/wp-content/uploads/2025/01/Yee-Haw-Saloon-Karaoke.png
END:VEVENT
BEGIN:VEVENT
DTSTART;TZID=UTC:20260814T180000
DTEND;TZID=UTC:20260814T235900
DTSTAMP:20260423T233147
CREATED:20250105T041014Z
LAST-MODIFIED:20251206T023551Z
UID:10000900-1786730400-1786751940@yeehawsaloon.com
SUMMARY:Karaoke Night!
DESCRIPTION:Join us and enjoy a little Karaoke and dancing on our beautiful wide open dance floor!
URL:https://yeehawsaloon.com/event/karaoke-nights-2-2/2026-08-14/
LOCATION:Yee Haw Saloon\, 3915 US-290\, Fredericksburg\, TX\, 78624\, United States
CATEGORIES:Karaoke
ATTACH;FMTTYPE=image/png:https://yeehawsaloon.com/wp-content/uploads/2025/01/Yee-Haw-Saloon-Karaoke.png
END:VEVENT
BEGIN:VEVENT
DTSTART;TZID=UTC:20260815T180000
DTEND;TZID=UTC:20260815T235900
DTSTAMP:20260423T233147
CREATED:20250105T041014Z
LAST-MODIFIED:20251206T023551Z
UID:10000278-1786816800-1786838340@yeehawsaloon.com
SUMMARY:Karaoke Night!
DESCRIPTION:Join us and enjoy a little Karaoke and dancing on our beautiful wide open dance floor!
URL:https://yeehawsaloon.com/event/karaoke-nights-2-2/2026-08-15/
LOCATION:Yee Haw Saloon\, 3915 US-290\, Fredericksburg\, TX\, 78624\, United States
CATEGORIES:Karaoke
ATTACH;FMTTYPE=image/png:https://yeehawsaloon.com/wp-content/uploads/2025/01/Yee-Haw-Saloon-Karaoke.png
END:VEVENT
BEGIN:VEVENT
DTSTART;TZID=UTC:20260821T180000
DTEND;TZID=UTC:20260821T235900
DTSTAMP:20260423T233147
CREATED:20250105T041014Z
LAST-MODIFIED:20251206T023551Z
UID:10000901-1787335200-1787356740@yeehawsaloon.com
SUMMARY:Karaoke Night!
DESCRIPTION:Join us and enjoy a little Karaoke and dancing on our beautiful wide open dance floor!
URL:https://yeehawsaloon.com/event/karaoke-nights-2-2/2026-08-21/
LOCATION:Yee Haw Saloon\, 3915 US-290\, Fredericksburg\, TX\, 78624\, United States
CATEGORIES:Karaoke
ATTACH;FMTTYPE=image/png:https://yeehawsaloon.com/wp-content/uploads/2025/01/Yee-Haw-Saloon-Karaoke.png
END:VEVENT
BEGIN:VEVENT
DTSTART;TZID=UTC:20260822T180000
DTEND;TZID=UTC:20260822T235900
DTSTAMP:20260423T233147
CREATED:20250105T041014Z
LAST-MODIFIED:20251206T023551Z
UID:10000279-1787421600-1787443140@yeehawsaloon.com
SUMMARY:Karaoke Night!
DESCRIPTION:Join us and enjoy a little Karaoke and dancing on our beautiful wide open dance floor!
URL:https://yeehawsaloon.com/event/karaoke-nights-2-2/2026-08-22/
LOCATION:Yee Haw Saloon\, 3915 US-290\, Fredericksburg\, TX\, 78624\, United States
CATEGORIES:Karaoke
ATTACH;FMTTYPE=image/png:https://yeehawsaloon.com/wp-content/uploads/2025/01/Yee-Haw-Saloon-Karaoke.png
END:VEVENT
BEGIN:VEVENT
DTSTART;TZID=UTC:20260828T180000
DTEND;TZID=UTC:20260828T235900
DTSTAMP:20260423T233147
CREATED:20250105T041014Z
LAST-MODIFIED:20251206T023551Z
UID:10000902-1787940000-1787961540@yeehawsaloon.com
SUMMARY:Karaoke Night!
DESCRIPTION:Join us and enjoy a little Karaoke and dancing on our beautiful wide open dance floor!
URL:https://yeehawsaloon.com/event/karaoke-nights-2-2/2026-08-28/
LOCATION:Yee Haw Saloon\, 3915 US-290\, Fredericksburg\, TX\, 78624\, United States
CATEGORIES:Karaoke
ATTACH;FMTTYPE=image/png:https://yeehawsaloon.com/wp-content/uploads/2025/01/Yee-Haw-Saloon-Karaoke.png
END:VEVENT
BEGIN:VEVENT
DTSTART;TZID=UTC:20260829T180000
DTEND;TZID=UTC:20260829T235900
DTSTAMP:20260423T233148
CREATED:20250105T041014Z
LAST-MODIFIED:20251206T023551Z
UID:10000280-1788026400-1788047940@yeehawsaloon.com
SUMMARY:Karaoke Night!
DESCRIPTION:Join us and enjoy a little Karaoke and dancing on our beautiful wide open dance floor!
URL:https://yeehawsaloon.com/event/karaoke-nights-2-2/2026-08-29/
LOCATION:Yee Haw Saloon\, 3915 US-290\, Fredericksburg\, TX\, 78624\, United States
CATEGORIES:Karaoke
ATTACH;FMTTYPE=image/png:https://yeehawsaloon.com/wp-content/uploads/2025/01/Yee-Haw-Saloon-Karaoke.png
END:VEVENT
BEGIN:VEVENT
DTSTART;TZID=UTC:20260904T180000
DTEND;TZID=UTC:20260904T235900
DTSTAMP:20260423T233148
CREATED:20250105T041014Z
LAST-MODIFIED:20251206T023551Z
UID:10000903-1788544800-1788566340@yeehawsaloon.com
SUMMARY:Karaoke Night!
DESCRIPTION:Join us and enjoy a little Karaoke and dancing on our beautiful wide open dance floor!
URL:https://yeehawsaloon.com/event/karaoke-nights-2-2/2026-09-04/
LOCATION:Yee Haw Saloon\, 3915 US-290\, Fredericksburg\, TX\, 78624\, United States
CATEGORIES:Karaoke
ATTACH;FMTTYPE=image/png:https://yeehawsaloon.com/wp-content/uploads/2025/01/Yee-Haw-Saloon-Karaoke.png
END:VEVENT
BEGIN:VEVENT
DTSTART;TZID=UTC:20260905T180000
DTEND;TZID=UTC:20260905T235900
DTSTAMP:20260423T233148
CREATED:20250105T041014Z
LAST-MODIFIED:20251206T023551Z
UID:10000281-1788631200-1788652740@yeehawsaloon.com
SUMMARY:Karaoke Night!
DESCRIPTION:Join us and enjoy a little Karaoke and dancing on our beautiful wide open dance floor!
URL:https://yeehawsaloon.com/event/karaoke-nights-2-2/2026-09-05/
LOCATION:Yee Haw Saloon\, 3915 US-290\, Fredericksburg\, TX\, 78624\, United States
CATEGORIES:Karaoke
ATTACH;FMTTYPE=image/png:https://yeehawsaloon.com/wp-content/uploads/2025/01/Yee-Haw-Saloon-Karaoke.png
END:VEVENT
BEGIN:VEVENT
DTSTART;TZID=UTC:20260911T180000
DTEND;TZID=UTC:20260911T235900
DTSTAMP:20260423T233148
CREATED:20250105T041014Z
LAST-MODIFIED:20251206T023551Z
UID:10000904-1789149600-1789171140@yeehawsaloon.com
SUMMARY:Karaoke Night!
DESCRIPTION:Join us and enjoy a little Karaoke and dancing on our beautiful wide open dance floor!
URL:https://yeehawsaloon.com/event/karaoke-nights-2-2/2026-09-11/
LOCATION:Yee Haw Saloon\, 3915 US-290\, Fredericksburg\, TX\, 78624\, United States
CATEGORIES:Karaoke
ATTACH;FMTTYPE=image/png:https://yeehawsaloon.com/wp-content/uploads/2025/01/Yee-Haw-Saloon-Karaoke.png
END:VEVENT
BEGIN:VEVENT
DTSTART;TZID=UTC:20260912T180000
DTEND;TZID=UTC:20260912T235900
DTSTAMP:20260423T233148
CREATED:20250105T041014Z
LAST-MODIFIED:20251206T023551Z
UID:10000282-1789236000-1789257540@yeehawsaloon.com
SUMMARY:Karaoke Night!
DESCRIPTION:Join us and enjoy a little Karaoke and dancing on our beautiful wide open dance floor!
URL:https://yeehawsaloon.com/event/karaoke-nights-2-2/2026-09-12/
LOCATION:Yee Haw Saloon\, 3915 US-290\, Fredericksburg\, TX\, 78624\, United States
CATEGORIES:Karaoke
ATTACH;FMTTYPE=image/png:https://yeehawsaloon.com/wp-content/uploads/2025/01/Yee-Haw-Saloon-Karaoke.png
END:VEVENT
BEGIN:VEVENT
DTSTART;TZID=UTC:20260918T180000
DTEND;TZID=UTC:20260918T235900
DTSTAMP:20260423T233148
CREATED:20250105T041014Z
LAST-MODIFIED:20251206T023551Z
UID:10000905-1789754400-1789775940@yeehawsaloon.com
SUMMARY:Karaoke Night!
DESCRIPTION:Join us and enjoy a little Karaoke and dancing on our beautiful wide open dance floor!
URL:https://yeehawsaloon.com/event/karaoke-nights-2-2/2026-09-18/
LOCATION:Yee Haw Saloon\, 3915 US-290\, Fredericksburg\, TX\, 78624\, United States
CATEGORIES:Karaoke
ATTACH;FMTTYPE=image/png:https://yeehawsaloon.com/wp-content/uploads/2025/01/Yee-Haw-Saloon-Karaoke.png
END:VEVENT
BEGIN:VEVENT
DTSTART;TZID=UTC:20260919T180000
DTEND;TZID=UTC:20260919T235900
DTSTAMP:20260423T233148
CREATED:20250105T041014Z
LAST-MODIFIED:20251206T023551Z
UID:10000283-1789840800-1789862340@yeehawsaloon.com
SUMMARY:Karaoke Night!
DESCRIPTION:Join us and enjoy a little Karaoke and dancing on our beautiful wide open dance floor!
URL:https://yeehawsaloon.com/event/karaoke-nights-2-2/2026-09-19/
LOCATION:Yee Haw Saloon\, 3915 US-290\, Fredericksburg\, TX\, 78624\, United States
CATEGORIES:Karaoke
ATTACH;FMTTYPE=image/png:https://yeehawsaloon.com/wp-content/uploads/2025/01/Yee-Haw-Saloon-Karaoke.png
END:VEVENT
BEGIN:VEVENT
DTSTART;TZID=UTC:20260925T180000
DTEND;TZID=UTC:20260925T235900
DTSTAMP:20260423T233148
CREATED:20250105T041014Z
LAST-MODIFIED:20251206T023551Z
UID:10000906-1790359200-1790380740@yeehawsaloon.com
SUMMARY:Karaoke Night!
DESCRIPTION:Join us and enjoy a little Karaoke and dancing on our beautiful wide open dance floor!
URL:https://yeehawsaloon.com/event/karaoke-nights-2-2/2026-09-25/
LOCATION:Yee Haw Saloon\, 3915 US-290\, Fredericksburg\, TX\, 78624\, United States
CATEGORIES:Karaoke
ATTACH;FMTTYPE=image/png:https://yeehawsaloon.com/wp-content/uploads/2025/01/Yee-Haw-Saloon-Karaoke.png
END:VEVENT
BEGIN:VEVENT
DTSTART;TZID=UTC:20260926T180000
DTEND;TZID=UTC:20260926T235900
DTSTAMP:20260423T233148
CREATED:20250105T041014Z
LAST-MODIFIED:20251206T023551Z
UID:10000284-1790445600-1790467140@yeehawsaloon.com
SUMMARY:Karaoke Night!
DESCRIPTION:Join us and enjoy a little Karaoke and dancing on our beautiful wide open dance floor!
URL:https://yeehawsaloon.com/event/karaoke-nights-2-2/2026-09-26/
LOCATION:Yee Haw Saloon\, 3915 US-290\, Fredericksburg\, TX\, 78624\, United States
CATEGORIES:Karaoke
ATTACH;FMTTYPE=image/png:https://yeehawsaloon.com/wp-content/uploads/2025/01/Yee-Haw-Saloon-Karaoke.png
END:VEVENT
BEGIN:VEVENT
DTSTART;TZID=UTC:20261002T180000
DTEND;TZID=UTC:20261002T235900
DTSTAMP:20260423T233148
CREATED:20250105T041014Z
LAST-MODIFIED:20251206T023551Z
UID:10000907-1790964000-1790985540@yeehawsaloon.com
SUMMARY:Karaoke Night!
DESCRIPTION:Join us and enjoy a little Karaoke and dancing on our beautiful wide open dance floor!
URL:https://yeehawsaloon.com/event/karaoke-nights-2-2/2026-10-02/
LOCATION:Yee Haw Saloon\, 3915 US-290\, Fredericksburg\, TX\, 78624\, United States
CATEGORIES:Karaoke
ATTACH;FMTTYPE=image/png:https://yeehawsaloon.com/wp-content/uploads/2025/01/Yee-Haw-Saloon-Karaoke.png
END:VEVENT
BEGIN:VEVENT
DTSTART;TZID=UTC:20261003T180000
DTEND;TZID=UTC:20261003T235900
DTSTAMP:20260423T233148
CREATED:20250105T041014Z
LAST-MODIFIED:20251206T023551Z
UID:10000285-1791050400-1791071940@yeehawsaloon.com
SUMMARY:Karaoke Night!
DESCRIPTION:Join us and enjoy a little Karaoke and dancing on our beautiful wide open dance floor!
URL:https://yeehawsaloon.com/event/karaoke-nights-2-2/2026-10-03/
LOCATION:Yee Haw Saloon\, 3915 US-290\, Fredericksburg\, TX\, 78624\, United States
CATEGORIES:Karaoke
ATTACH;FMTTYPE=image/png:https://yeehawsaloon.com/wp-content/uploads/2025/01/Yee-Haw-Saloon-Karaoke.png
END:VEVENT
BEGIN:VEVENT
DTSTART;TZID=UTC:20261009T180000
DTEND;TZID=UTC:20261009T235900
DTSTAMP:20260423T233148
CREATED:20250105T041014Z
LAST-MODIFIED:20251206T023551Z
UID:10000908-1791568800-1791590340@yeehawsaloon.com
SUMMARY:Karaoke Night!
DESCRIPTION:Join us and enjoy a little Karaoke and dancing on our beautiful wide open dance floor!
URL:https://yeehawsaloon.com/event/karaoke-nights-2-2/2026-10-09/
LOCATION:Yee Haw Saloon\, 3915 US-290\, Fredericksburg\, TX\, 78624\, United States
CATEGORIES:Karaoke
ATTACH;FMTTYPE=image/png:https://yeehawsaloon.com/wp-content/uploads/2025/01/Yee-Haw-Saloon-Karaoke.png
END:VEVENT
BEGIN:VEVENT
DTSTART;TZID=UTC:20261010T180000
DTEND;TZID=UTC:20261010T235900
DTSTAMP:20260423T233148
CREATED:20250105T041014Z
LAST-MODIFIED:20251206T023551Z
UID:10000286-1791655200-1791676740@yeehawsaloon.com
SUMMARY:Karaoke Night!
DESCRIPTION:Join us and enjoy a little Karaoke and dancing on our beautiful wide open dance floor!
URL:https://yeehawsaloon.com/event/karaoke-nights-2-2/2026-10-10/
LOCATION:Yee Haw Saloon\, 3915 US-290\, Fredericksburg\, TX\, 78624\, United States
CATEGORIES:Karaoke
ATTACH;FMTTYPE=image/png:https://yeehawsaloon.com/wp-content/uploads/2025/01/Yee-Haw-Saloon-Karaoke.png
END:VEVENT
BEGIN:VEVENT
DTSTART;TZID=UTC:20261016T180000
DTEND;TZID=UTC:20261016T235900
DTSTAMP:20260423T233148
CREATED:20250105T041014Z
LAST-MODIFIED:20251206T023551Z
UID:10000909-1792173600-1792195140@yeehawsaloon.com
SUMMARY:Karaoke Night!
DESCRIPTION:Join us and enjoy a little Karaoke and dancing on our beautiful wide open dance floor!
URL:https://yeehawsaloon.com/event/karaoke-nights-2-2/2026-10-16/
LOCATION:Yee Haw Saloon\, 3915 US-290\, Fredericksburg\, TX\, 78624\, United States
CATEGORIES:Karaoke
ATTACH;FMTTYPE=image/png:https://yeehawsaloon.com/wp-content/uploads/2025/01/Yee-Haw-Saloon-Karaoke.png
END:VEVENT
BEGIN:VEVENT
DTSTART;TZID=UTC:20261017T180000
DTEND;TZID=UTC:20261017T235900
DTSTAMP:20260423T233148
CREATED:20250105T041014Z
LAST-MODIFIED:20251206T023551Z
UID:10000287-1792260000-1792281540@yeehawsaloon.com
SUMMARY:Karaoke Night!
DESCRIPTION:Join us and enjoy a little Karaoke and dancing on our beautiful wide open dance floor!
URL:https://yeehawsaloon.com/event/karaoke-nights-2-2/2026-10-17/
LOCATION:Yee Haw Saloon\, 3915 US-290\, Fredericksburg\, TX\, 78624\, United States
CATEGORIES:Karaoke
ATTACH;FMTTYPE=image/png:https://yeehawsaloon.com/wp-content/uploads/2025/01/Yee-Haw-Saloon-Karaoke.png
END:VEVENT
BEGIN:VEVENT
DTSTART;TZID=UTC:20261023T180000
DTEND;TZID=UTC:20261023T235900
DTSTAMP:20260423T233148
CREATED:20250105T041014Z
LAST-MODIFIED:20251206T023551Z
UID:10000910-1792778400-1792799940@yeehawsaloon.com
SUMMARY:Karaoke Night!
DESCRIPTION:Join us and enjoy a little Karaoke and dancing on our beautiful wide open dance floor!
URL:https://yeehawsaloon.com/event/karaoke-nights-2-2/2026-10-23/
LOCATION:Yee Haw Saloon\, 3915 US-290\, Fredericksburg\, TX\, 78624\, United States
CATEGORIES:Karaoke
ATTACH;FMTTYPE=image/png:https://yeehawsaloon.com/wp-content/uploads/2025/01/Yee-Haw-Saloon-Karaoke.png
END:VEVENT
BEGIN:VEVENT
DTSTART;TZID=UTC:20261024T180000
DTEND;TZID=UTC:20261024T235900
DTSTAMP:20260423T233148
CREATED:20250105T041014Z
LAST-MODIFIED:20251206T023551Z
UID:10000288-1792864800-1792886340@yeehawsaloon.com
SUMMARY:Karaoke Night!
DESCRIPTION:Join us and enjoy a little Karaoke and dancing on our beautiful wide open dance floor!
URL:https://yeehawsaloon.com/event/karaoke-nights-2-2/2026-10-24/
LOCATION:Yee Haw Saloon\, 3915 US-290\, Fredericksburg\, TX\, 78624\, United States
CATEGORIES:Karaoke
ATTACH;FMTTYPE=image/png:https://yeehawsaloon.com/wp-content/uploads/2025/01/Yee-Haw-Saloon-Karaoke.png
END:VEVENT
END:VCALENDAR