BEGIN:VCALENDAR
VERSION:2.0
PRODID:-//Yee Haw Saloon - ECPv6.15.20//NONSGML v1.0//EN
CALSCALE:GREGORIAN
METHOD:PUBLISH
X-WR-CALNAME:Yee Haw Saloon
X-ORIGINAL-URL:https://yeehawsaloon.com
X-WR-CALDESC:Events for Yee Haw Saloon
REFRESH-INTERVAL;VALUE=DURATION:PT1H
X-Robots-Tag:noindex
X-PUBLISHED-TTL:PT1H
BEGIN:VTIMEZONE
TZID:UTC
BEGIN:STANDARD
TZOFFSETFROM:+0000
TZOFFSETTO:+0000
TZNAME:UTC
DTSTART:20240101T000000
END:STANDARD
END:VTIMEZONE
BEGIN:VEVENT
DTSTART;VALUE=DATE:20251231
DTEND;VALUE=DATE:20260101
DTSTAMP:20260424T054631
CREATED:20251109T114550Z
LAST-MODIFIED:20251109T114751Z
UID:10001961-1767139200-1767225599@yeehawsaloon.com
SUMMARY:Denim & Diamonds Party - New Year’s Eve
DESCRIPTION:New Year’s Eve Denim and Diamonds Party\n\nCome Sparkle & Shine\n  \nDinner\, dancing to Scott Crofts Band\, midnight toast\, New Year’s Day tradition of black-eyed peas and cabbage. \n$75 per person with tickets limited to 80.  \nNo reserved tables for less than 10.  \n  \nCall to make your reservation today! \n(830) 304-6000
URL:https://yeehawsaloon.com/event/denim-diamonds-party-new-years-eve/
LOCATION:Yee Haw Saloon\, 3915 US-290\, Fredericksburg\, TX\, 78624\, United States
CATEGORIES:New Year’s Eve
ATTACH;FMTTYPE=image/jpeg:https://yeehawsaloon.com/wp-content/uploads/2025/11/new-yrs-eve-25-26-pdf.jpeg
END:VEVENT
BEGIN:VEVENT
DTSTART;TZID=UTC:20251227T180000
DTEND;TZID=UTC:20251227T235900
DTSTAMP:20260424T054631
CREATED:20250105T041014Z
LAST-MODIFIED:20251206T023551Z
UID:10000245-1766858400-1766879940@yeehawsaloon.com
SUMMARY:Karaoke Night!
DESCRIPTION:Join us and enjoy a little Karaoke and dancing on our beautiful wide open dance floor!
URL:https://yeehawsaloon.com/event/karaoke-nights-2-2/2025-12-27/
LOCATION:Yee Haw Saloon\, 3915 US-290\, Fredericksburg\, TX\, 78624\, United States
CATEGORIES:Karaoke
ATTACH;FMTTYPE=image/png:https://yeehawsaloon.com/wp-content/uploads/2025/01/Yee-Haw-Saloon-Karaoke.png
END:VEVENT
BEGIN:VEVENT
DTSTART;TZID=UTC:20251226T180000
DTEND;TZID=UTC:20251226T235900
DTSTAMP:20260424T054631
CREATED:20250105T041014Z
LAST-MODIFIED:20251206T023551Z
UID:10000867-1766772000-1766793540@yeehawsaloon.com
SUMMARY:Karaoke Night!
DESCRIPTION:Join us and enjoy a little Karaoke and dancing on our beautiful wide open dance floor!
URL:https://yeehawsaloon.com/event/karaoke-nights-2-2/2025-12-26/
LOCATION:Yee Haw Saloon\, 3915 US-290\, Fredericksburg\, TX\, 78624\, United States
CATEGORIES:Karaoke
ATTACH;FMTTYPE=image/png:https://yeehawsaloon.com/wp-content/uploads/2025/01/Yee-Haw-Saloon-Karaoke.png
END:VEVENT
BEGIN:VEVENT
DTSTART;TZID=UTC:20251220T180000
DTEND;TZID=UTC:20251220T235900
DTSTAMP:20260424T054631
CREATED:20250105T041014Z
LAST-MODIFIED:20251206T023551Z
UID:10000244-1766253600-1766275140@yeehawsaloon.com
SUMMARY:Karaoke Night!
DESCRIPTION:Join us and enjoy a little Karaoke and dancing on our beautiful wide open dance floor!
URL:https://yeehawsaloon.com/event/karaoke-nights-2-2/2025-12-20/
LOCATION:Yee Haw Saloon\, 3915 US-290\, Fredericksburg\, TX\, 78624\, United States
CATEGORIES:Karaoke
ATTACH;FMTTYPE=image/png:https://yeehawsaloon.com/wp-content/uploads/2025/01/Yee-Haw-Saloon-Karaoke.png
END:VEVENT
BEGIN:VEVENT
DTSTART;TZID=UTC:20251219T180000
DTEND;TZID=UTC:20251219T235900
DTSTAMP:20260424T054631
CREATED:20250105T041014Z
LAST-MODIFIED:20251206T023551Z
UID:10000866-1766167200-1766188740@yeehawsaloon.com
SUMMARY:Karaoke Night!
DESCRIPTION:Join us and enjoy a little Karaoke and dancing on our beautiful wide open dance floor!
URL:https://yeehawsaloon.com/event/karaoke-nights-2-2/2025-12-19/
LOCATION:Yee Haw Saloon\, 3915 US-290\, Fredericksburg\, TX\, 78624\, United States
CATEGORIES:Karaoke
ATTACH;FMTTYPE=image/png:https://yeehawsaloon.com/wp-content/uploads/2025/01/Yee-Haw-Saloon-Karaoke.png
END:VEVENT
BEGIN:VEVENT
DTSTART;TZID=UTC:20251213T180000
DTEND;TZID=UTC:20251213T235900
DTSTAMP:20260424T054631
CREATED:20250105T041014Z
LAST-MODIFIED:20251206T023551Z
UID:10000243-1765648800-1765670340@yeehawsaloon.com
SUMMARY:Karaoke Night!
DESCRIPTION:Join us and enjoy a little Karaoke and dancing on our beautiful wide open dance floor!
URL:https://yeehawsaloon.com/event/karaoke-nights-2-2/2025-12-13/
LOCATION:Yee Haw Saloon\, 3915 US-290\, Fredericksburg\, TX\, 78624\, United States
CATEGORIES:Karaoke
ATTACH;FMTTYPE=image/png:https://yeehawsaloon.com/wp-content/uploads/2025/01/Yee-Haw-Saloon-Karaoke.png
END:VEVENT
BEGIN:VEVENT
DTSTART;TZID=UTC:20251212T180000
DTEND;TZID=UTC:20251212T235900
DTSTAMP:20260424T054631
CREATED:20250105T041014Z
LAST-MODIFIED:20251206T023551Z
UID:10000865-1765562400-1765583940@yeehawsaloon.com
SUMMARY:Karaoke Night!
DESCRIPTION:Join us and enjoy a little Karaoke and dancing on our beautiful wide open dance floor!
URL:https://yeehawsaloon.com/event/karaoke-nights-2-2/2025-12-12/
LOCATION:Yee Haw Saloon\, 3915 US-290\, Fredericksburg\, TX\, 78624\, United States
CATEGORIES:Karaoke
ATTACH;FMTTYPE=image/png:https://yeehawsaloon.com/wp-content/uploads/2025/01/Yee-Haw-Saloon-Karaoke.png
END:VEVENT
BEGIN:VEVENT
DTSTART;TZID=UTC:20251206T180000
DTEND;TZID=UTC:20251206T235900
DTSTAMP:20260424T054631
CREATED:20250105T041014Z
LAST-MODIFIED:20251206T023551Z
UID:10000242-1765044000-1765065540@yeehawsaloon.com
SUMMARY:Karaoke Night!
DESCRIPTION:Join us and enjoy a little Karaoke and dancing on our beautiful wide open dance floor!
URL:https://yeehawsaloon.com/event/karaoke-nights-2-2/2025-12-06/
LOCATION:Yee Haw Saloon\, 3915 US-290\, Fredericksburg\, TX\, 78624\, United States
CATEGORIES:Karaoke
ATTACH;FMTTYPE=image/png:https://yeehawsaloon.com/wp-content/uploads/2025/01/Yee-Haw-Saloon-Karaoke.png
END:VEVENT
BEGIN:VEVENT
DTSTART;TZID=UTC:20251205T180000
DTEND;TZID=UTC:20251205T235900
DTSTAMP:20260424T054631
CREATED:20250105T041014Z
LAST-MODIFIED:20251206T023551Z
UID:10000864-1764957600-1764979140@yeehawsaloon.com
SUMMARY:Karaoke Night!
DESCRIPTION:Join us and enjoy a little Karaoke and dancing on our beautiful wide open dance floor!
URL:https://yeehawsaloon.com/event/karaoke-nights-2-2/2025-12-05/
LOCATION:Yee Haw Saloon\, 3915 US-290\, Fredericksburg\, TX\, 78624\, United States
CATEGORIES:Karaoke
ATTACH;FMTTYPE=image/png:https://yeehawsaloon.com/wp-content/uploads/2025/01/Yee-Haw-Saloon-Karaoke.png
END:VEVENT
BEGIN:VEVENT
DTSTART;TZID=UTC:20251129T180000
DTEND;TZID=UTC:20251129T235900
DTSTAMP:20260424T054631
CREATED:20250105T041014Z
LAST-MODIFIED:20251206T023551Z
UID:10000241-1764439200-1764460740@yeehawsaloon.com
SUMMARY:Karaoke Night!
DESCRIPTION:Join us and enjoy a little Karaoke and dancing on our beautiful wide open dance floor!
URL:https://yeehawsaloon.com/event/karaoke-nights-2-2/2025-11-29/
LOCATION:Yee Haw Saloon\, 3915 US-290\, Fredericksburg\, TX\, 78624\, United States
CATEGORIES:Karaoke
ATTACH;FMTTYPE=image/png:https://yeehawsaloon.com/wp-content/uploads/2025/01/Yee-Haw-Saloon-Karaoke.png
END:VEVENT
BEGIN:VEVENT
DTSTART;TZID=UTC:20251129T140000
DTEND;TZID=UTC:20251129T180000
DTSTAMP:20260424T054631
CREATED:20250318T041730Z
LAST-MODIFIED:20250318T041730Z
UID:10001302-1764424800-1764439200@yeehawsaloon.com
SUMMARY:Bob Appel - Live Music
DESCRIPTION:Join us and enjoy a little dancing on our beautiful wide open dance floor to the fantastic sounds of Bob Appel.
URL:https://yeehawsaloon.com/event/bob-appel-live-music-7/
LOCATION:Yee Haw Saloon\, 3915 US-290\, Fredericksburg\, TX\, 78624\, United States
CATEGORIES:Live Music
ATTACH;FMTTYPE=image/jpeg:https://yeehawsaloon.com/wp-content/uploads/2023/12/Bob-Appel.jpeg
END:VEVENT
BEGIN:VEVENT
DTSTART;TZID=UTC:20251128T180000
DTEND;TZID=UTC:20251128T235900
DTSTAMP:20260424T054631
CREATED:20250105T041014Z
LAST-MODIFIED:20251206T023551Z
UID:10000863-1764352800-1764374340@yeehawsaloon.com
SUMMARY:Karaoke Night!
DESCRIPTION:Join us and enjoy a little Karaoke and dancing on our beautiful wide open dance floor!
URL:https://yeehawsaloon.com/event/karaoke-nights-2-2/2025-11-28/
LOCATION:Yee Haw Saloon\, 3915 US-290\, Fredericksburg\, TX\, 78624\, United States
CATEGORIES:Karaoke
ATTACH;FMTTYPE=image/png:https://yeehawsaloon.com/wp-content/uploads/2025/01/Yee-Haw-Saloon-Karaoke.png
END:VEVENT
BEGIN:VEVENT
DTSTART;TZID=UTC:20251122T180000
DTEND;TZID=UTC:20251122T235900
DTSTAMP:20260424T054631
CREATED:20250105T041014Z
LAST-MODIFIED:20251206T023551Z
UID:10000240-1763834400-1763855940@yeehawsaloon.com
SUMMARY:Karaoke Night!
DESCRIPTION:Join us and enjoy a little Karaoke and dancing on our beautiful wide open dance floor!
URL:https://yeehawsaloon.com/event/karaoke-nights-2-2/2025-11-22/
LOCATION:Yee Haw Saloon\, 3915 US-290\, Fredericksburg\, TX\, 78624\, United States
CATEGORIES:Karaoke
ATTACH;FMTTYPE=image/png:https://yeehawsaloon.com/wp-content/uploads/2025/01/Yee-Haw-Saloon-Karaoke.png
END:VEVENT
BEGIN:VEVENT
DTSTART;TZID=UTC:20251121T180000
DTEND;TZID=UTC:20251121T235900
DTSTAMP:20260424T054631
CREATED:20250105T041014Z
LAST-MODIFIED:20251206T023551Z
UID:10000862-1763748000-1763769540@yeehawsaloon.com
SUMMARY:Karaoke Night!
DESCRIPTION:Join us and enjoy a little Karaoke and dancing on our beautiful wide open dance floor!
URL:https://yeehawsaloon.com/event/karaoke-nights-2-2/2025-11-21/
LOCATION:Yee Haw Saloon\, 3915 US-290\, Fredericksburg\, TX\, 78624\, United States
CATEGORIES:Karaoke
ATTACH;FMTTYPE=image/png:https://yeehawsaloon.com/wp-content/uploads/2025/01/Yee-Haw-Saloon-Karaoke.png
END:VEVENT
BEGIN:VEVENT
DTSTART;TZID=UTC:20251115T180000
DTEND;TZID=UTC:20251115T235900
DTSTAMP:20260424T054631
CREATED:20250105T041014Z
LAST-MODIFIED:20251206T023551Z
UID:10000239-1763229600-1763251140@yeehawsaloon.com
SUMMARY:Karaoke Night!
DESCRIPTION:Join us and enjoy a little Karaoke and dancing on our beautiful wide open dance floor!
URL:https://yeehawsaloon.com/event/karaoke-nights-2-2/2025-11-15/
LOCATION:Yee Haw Saloon\, 3915 US-290\, Fredericksburg\, TX\, 78624\, United States
CATEGORIES:Karaoke
ATTACH;FMTTYPE=image/png:https://yeehawsaloon.com/wp-content/uploads/2025/01/Yee-Haw-Saloon-Karaoke.png
END:VEVENT
BEGIN:VEVENT
DTSTART;TZID=UTC:20251115T140000
DTEND;TZID=UTC:20251115T180000
DTSTAMP:20260424T054631
CREATED:20251028T204928Z
LAST-MODIFIED:20251028T204928Z
UID:10001288-1763215200-1763229600@yeehawsaloon.com
SUMMARY:Scott Crofts - Live Music
DESCRIPTION:Join us and enjoy a little dancing on our beautiful wide open dance floor to the fantastic sounds of Scott Crofts.
URL:https://yeehawsaloon.com/event/scott-crofts-live-music-53-2/2025-11-15/
LOCATION:Yee Haw Saloon\, 3915 US-290\, Fredericksburg\, TX\, 78624\, United States
CATEGORIES:Live Music
ATTACH;FMTTYPE=image/jpeg:https://yeehawsaloon.com/wp-content/uploads/2023/07/Scott-Crofts-Live.jpg
END:VEVENT
BEGIN:VEVENT
DTSTART;TZID=UTC:20251114T180000
DTEND;TZID=UTC:20251114T235900
DTSTAMP:20260424T054631
CREATED:20250105T041014Z
LAST-MODIFIED:20251206T023551Z
UID:10000861-1763143200-1763164740@yeehawsaloon.com
SUMMARY:Karaoke Night!
DESCRIPTION:Join us and enjoy a little Karaoke and dancing on our beautiful wide open dance floor!
URL:https://yeehawsaloon.com/event/karaoke-nights-2-2/2025-11-14/
LOCATION:Yee Haw Saloon\, 3915 US-290\, Fredericksburg\, TX\, 78624\, United States
CATEGORIES:Karaoke
ATTACH;FMTTYPE=image/png:https://yeehawsaloon.com/wp-content/uploads/2025/01/Yee-Haw-Saloon-Karaoke.png
END:VEVENT
BEGIN:VEVENT
DTSTART;TZID=UTC:20251108T180000
DTEND;TZID=UTC:20251108T235900
DTSTAMP:20260424T054631
CREATED:20250105T041014Z
LAST-MODIFIED:20251206T023551Z
UID:10000238-1762624800-1762646340@yeehawsaloon.com
SUMMARY:Karaoke Night!
DESCRIPTION:Join us and enjoy a little Karaoke and dancing on our beautiful wide open dance floor!
URL:https://yeehawsaloon.com/event/karaoke-nights-2-2/2025-11-08/
LOCATION:Yee Haw Saloon\, 3915 US-290\, Fredericksburg\, TX\, 78624\, United States
CATEGORIES:Karaoke
ATTACH;FMTTYPE=image/png:https://yeehawsaloon.com/wp-content/uploads/2025/01/Yee-Haw-Saloon-Karaoke.png
END:VEVENT
BEGIN:VEVENT
DTSTART;TZID=UTC:20251108T140000
DTEND;TZID=UTC:20251108T180000
DTSTAMP:20260424T054631
CREATED:20250508T113402Z
LAST-MODIFIED:20250508T113402Z
UID:10001879-1762610400-1762624800@yeehawsaloon.com
SUMMARY:Bob Appel - Live Music
DESCRIPTION:Join us and enjoy a little dancing on our beautiful wide open dance floor to the fantastic sounds of Bob Appel.
URL:https://yeehawsaloon.com/event/bob-appel-live-music-11/
LOCATION:Yee Haw Saloon\, 3915 US-290\, Fredericksburg\, TX\, 78624\, United States
CATEGORIES:Live Music
ATTACH;FMTTYPE=image/jpeg:https://yeehawsaloon.com/wp-content/uploads/2023/12/Bob-Appel.jpeg
END:VEVENT
BEGIN:VEVENT
DTSTART;TZID=UTC:20251107T180000
DTEND;TZID=UTC:20251107T235900
DTSTAMP:20260424T054631
CREATED:20250105T041014Z
LAST-MODIFIED:20251206T023551Z
UID:10000860-1762538400-1762559940@yeehawsaloon.com
SUMMARY:Karaoke Night!
DESCRIPTION:Join us and enjoy a little Karaoke and dancing on our beautiful wide open dance floor!
URL:https://yeehawsaloon.com/event/karaoke-nights-2-2/2025-11-07/
LOCATION:Yee Haw Saloon\, 3915 US-290\, Fredericksburg\, TX\, 78624\, United States
CATEGORIES:Karaoke
ATTACH;FMTTYPE=image/png:https://yeehawsaloon.com/wp-content/uploads/2025/01/Yee-Haw-Saloon-Karaoke.png
END:VEVENT
BEGIN:VEVENT
DTSTART;TZID=UTC:20251101T180000
DTEND;TZID=UTC:20251101T235900
DTSTAMP:20260424T054631
CREATED:20250105T041014Z
LAST-MODIFIED:20251206T023551Z
UID:10000237-1762020000-1762041540@yeehawsaloon.com
SUMMARY:Karaoke Night!
DESCRIPTION:Join us and enjoy a little Karaoke and dancing on our beautiful wide open dance floor!
URL:https://yeehawsaloon.com/event/karaoke-nights-2-2/2025-11-01/
LOCATION:Yee Haw Saloon\, 3915 US-290\, Fredericksburg\, TX\, 78624\, United States
CATEGORIES:Karaoke
ATTACH;FMTTYPE=image/png:https://yeehawsaloon.com/wp-content/uploads/2025/01/Yee-Haw-Saloon-Karaoke.png
END:VEVENT
BEGIN:VEVENT
DTSTART;TZID=UTC:20251101T140000
DTEND;TZID=UTC:20251101T180000
DTSTAMP:20260424T054631
CREATED:20251028T204855Z
LAST-MODIFIED:20251028T204856Z
UID:10001273-1762005600-1762020000@yeehawsaloon.com
SUMMARY:Scott Crofts - Live Music
DESCRIPTION:Join us and enjoy a little dancing on our beautiful wide open dance floor to the fantastic sounds of Scott Crofts.
URL:https://yeehawsaloon.com/event/scott-crofts-live-music-52-2/2025-11-01/
LOCATION:Yee Haw Saloon\, 3915 US-290\, Fredericksburg\, TX\, 78624\, United States
CATEGORIES:Live Music
ATTACH;FMTTYPE=image/jpeg:https://yeehawsaloon.com/wp-content/uploads/2023/07/Scott-Crofts-Live.jpg
END:VEVENT
BEGIN:VEVENT
DTSTART;TZID=UTC:20251031T180000
DTEND;TZID=UTC:20251031T235900
DTSTAMP:20260424T054631
CREATED:20250105T041014Z
LAST-MODIFIED:20251206T023551Z
UID:10000859-1761933600-1761955140@yeehawsaloon.com
SUMMARY:Karaoke Night!
DESCRIPTION:Join us and enjoy a little Karaoke and dancing on our beautiful wide open dance floor!
URL:https://yeehawsaloon.com/event/karaoke-nights-2-2/2025-10-31/
LOCATION:Yee Haw Saloon\, 3915 US-290\, Fredericksburg\, TX\, 78624\, United States
CATEGORIES:Karaoke
ATTACH;FMTTYPE=image/png:https://yeehawsaloon.com/wp-content/uploads/2025/01/Yee-Haw-Saloon-Karaoke.png
END:VEVENT
BEGIN:VEVENT
DTSTART;TZID=UTC:20251025T180000
DTEND;TZID=UTC:20251025T235900
DTSTAMP:20260424T054631
CREATED:20250105T041014Z
LAST-MODIFIED:20251206T023551Z
UID:10000236-1761415200-1761436740@yeehawsaloon.com
SUMMARY:Karaoke Night!
DESCRIPTION:Join us and enjoy a little Karaoke and dancing on our beautiful wide open dance floor!
URL:https://yeehawsaloon.com/event/karaoke-nights-2-2/2025-10-25/
LOCATION:Yee Haw Saloon\, 3915 US-290\, Fredericksburg\, TX\, 78624\, United States
CATEGORIES:Karaoke
ATTACH;FMTTYPE=image/png:https://yeehawsaloon.com/wp-content/uploads/2025/01/Yee-Haw-Saloon-Karaoke.png
END:VEVENT
BEGIN:VEVENT
DTSTART;TZID=UTC:20251025T140000
DTEND;TZID=UTC:20251025T173000
DTSTAMP:20260424T054631
CREATED:20251022T220756Z
LAST-MODIFIED:20251022T220833Z
UID:10001960-1761400800-1761413400@yeehawsaloon.com
SUMMARY:Wagon Aces - Live Music
DESCRIPTION:Join us and enjoy a little dancing on our beautiful wide open dance floor to the fantastic sounds of the Wagon Aces.
URL:https://yeehawsaloon.com/event/wagon-aces-live-music/
LOCATION:Yee Haw Saloon\, 3915 US-290\, Fredericksburg\, TX\, 78624\, United States
CATEGORIES:Live Music
ATTACH;FMTTYPE=image/webp:https://yeehawsaloon.com/wp-content/uploads/2025/10/IMG_1438.webp
END:VEVENT
BEGIN:VEVENT
DTSTART;TZID=UTC:20251024T180000
DTEND;TZID=UTC:20251024T235900
DTSTAMP:20260424T054631
CREATED:20250105T041014Z
LAST-MODIFIED:20251206T023551Z
UID:10000858-1761328800-1761350340@yeehawsaloon.com
SUMMARY:Karaoke Night!
DESCRIPTION:Join us and enjoy a little Karaoke and dancing on our beautiful wide open dance floor!
URL:https://yeehawsaloon.com/event/karaoke-nights-2-2/2025-10-24/
LOCATION:Yee Haw Saloon\, 3915 US-290\, Fredericksburg\, TX\, 78624\, United States
CATEGORIES:Karaoke
ATTACH;FMTTYPE=image/png:https://yeehawsaloon.com/wp-content/uploads/2025/01/Yee-Haw-Saloon-Karaoke.png
END:VEVENT
BEGIN:VEVENT
DTSTART;TZID=UTC:20251018T180000
DTEND;TZID=UTC:20251018T235900
DTSTAMP:20260424T054631
CREATED:20250105T041014Z
LAST-MODIFIED:20251206T023551Z
UID:10000235-1760810400-1760831940@yeehawsaloon.com
SUMMARY:Karaoke Night!
DESCRIPTION:Join us and enjoy a little Karaoke and dancing on our beautiful wide open dance floor!
URL:https://yeehawsaloon.com/event/karaoke-nights-2-2/2025-10-18/
LOCATION:Yee Haw Saloon\, 3915 US-290\, Fredericksburg\, TX\, 78624\, United States
CATEGORIES:Karaoke
ATTACH;FMTTYPE=image/png:https://yeehawsaloon.com/wp-content/uploads/2025/01/Yee-Haw-Saloon-Karaoke.png
END:VEVENT
BEGIN:VEVENT
DTSTART;TZID=UTC:20251018T140000
DTEND;TZID=UTC:20251018T180000
DTSTAMP:20260424T054631
CREATED:20240703T220704Z
LAST-MODIFIED:20250318T041142Z
UID:10001287-1760796000-1760810400@yeehawsaloon.com
SUMMARY:Scott Crofts - Live Music
DESCRIPTION:Join us and enjoy a little dancing on our beautiful wide open dance floor to the fantastic sounds of Scott Crofts.
URL:https://yeehawsaloon.com/event/scott-crofts-live-music-53/2025-10-18/
LOCATION:Yee Haw Saloon\, 3915 US-290\, Fredericksburg\, TX\, 78624\, United States
CATEGORIES:Live Music
ATTACH;FMTTYPE=image/jpeg:https://yeehawsaloon.com/wp-content/uploads/2023/07/Scott-Crofts-Live.jpg
END:VEVENT
BEGIN:VEVENT
DTSTART;TZID=UTC:20251017T180000
DTEND;TZID=UTC:20251017T235900
DTSTAMP:20260424T054631
CREATED:20250105T041014Z
LAST-MODIFIED:20251206T023551Z
UID:10000857-1760724000-1760745540@yeehawsaloon.com
SUMMARY:Karaoke Night!
DESCRIPTION:Join us and enjoy a little Karaoke and dancing on our beautiful wide open dance floor!
URL:https://yeehawsaloon.com/event/karaoke-nights-2-2/2025-10-17/
LOCATION:Yee Haw Saloon\, 3915 US-290\, Fredericksburg\, TX\, 78624\, United States
CATEGORIES:Karaoke
ATTACH;FMTTYPE=image/png:https://yeehawsaloon.com/wp-content/uploads/2025/01/Yee-Haw-Saloon-Karaoke.png
END:VEVENT
BEGIN:VEVENT
DTSTART;TZID=UTC:20251011T180000
DTEND;TZID=UTC:20251011T235900
DTSTAMP:20260424T054631
CREATED:20250105T041014Z
LAST-MODIFIED:20251206T023551Z
UID:10000234-1760205600-1760227140@yeehawsaloon.com
SUMMARY:Karaoke Night!
DESCRIPTION:Join us and enjoy a little Karaoke and dancing on our beautiful wide open dance floor!
URL:https://yeehawsaloon.com/event/karaoke-nights-2-2/2025-10-11/
LOCATION:Yee Haw Saloon\, 3915 US-290\, Fredericksburg\, TX\, 78624\, United States
CATEGORIES:Karaoke
ATTACH;FMTTYPE=image/png:https://yeehawsaloon.com/wp-content/uploads/2025/01/Yee-Haw-Saloon-Karaoke.png
END:VEVENT
END:VCALENDAR