BEGIN:VCALENDAR
VERSION:2.0
PRODID:-//Yee Haw Saloon - ECPv6.15.20//NONSGML v1.0//EN
CALSCALE:GREGORIAN
METHOD:PUBLISH
X-WR-CALNAME:Yee Haw Saloon
X-ORIGINAL-URL:https://yeehawsaloon.com
X-WR-CALDESC:Events for Yee Haw Saloon
REFRESH-INTERVAL;VALUE=DURATION:PT1H
X-Robots-Tag:noindex
X-PUBLISHED-TTL:PT1H
BEGIN:VTIMEZONE
TZID:UTC
BEGIN:STANDARD
TZOFFSETFROM:+0000
TZOFFSETTO:+0000
TZNAME:UTC
DTSTART:20250101T000000
END:STANDARD
END:VTIMEZONE
BEGIN:VEVENT
DTSTART;TZID=UTC:20260424T180000
DTEND;TZID=UTC:20260424T235900
DTSTAMP:20260423T231314
CREATED:20250105T041014Z
LAST-MODIFIED:20251206T023551Z
UID:10000884-1777053600-1777075140@yeehawsaloon.com
SUMMARY:Karaoke Night!
DESCRIPTION:Join us and enjoy a little Karaoke and dancing on our beautiful wide open dance floor!
URL:https://yeehawsaloon.com/event/karaoke-nights-2-2/2026-04-24/
LOCATION:Yee Haw Saloon\, 3915 US-290\, Fredericksburg\, TX\, 78624\, United States
CATEGORIES:Karaoke
ATTACH;FMTTYPE=image/png:https://yeehawsaloon.com/wp-content/uploads/2025/01/Yee-Haw-Saloon-Karaoke.png
END:VEVENT
BEGIN:VEVENT
DTSTART;TZID=UTC:20260425T180000
DTEND;TZID=UTC:20260425T235900
DTSTAMP:20260423T231314
CREATED:20250105T041014Z
LAST-MODIFIED:20251206T023551Z
UID:10000262-1777140000-1777161540@yeehawsaloon.com
SUMMARY:Karaoke Night!
DESCRIPTION:Join us and enjoy a little Karaoke and dancing on our beautiful wide open dance floor!
URL:https://yeehawsaloon.com/event/karaoke-nights-2-2/2026-04-25/
LOCATION:Yee Haw Saloon\, 3915 US-290\, Fredericksburg\, TX\, 78624\, United States
CATEGORIES:Karaoke
ATTACH;FMTTYPE=image/png:https://yeehawsaloon.com/wp-content/uploads/2025/01/Yee-Haw-Saloon-Karaoke.png
END:VEVENT
BEGIN:VEVENT
DTSTART;TZID=UTC:20260501T180000
DTEND;TZID=UTC:20260501T235900
DTSTAMP:20260423T231314
CREATED:20250105T041014Z
LAST-MODIFIED:20251206T023551Z
UID:10000885-1777658400-1777679940@yeehawsaloon.com
SUMMARY:Karaoke Night!
DESCRIPTION:Join us and enjoy a little Karaoke and dancing on our beautiful wide open dance floor!
URL:https://yeehawsaloon.com/event/karaoke-nights-2-2/2026-05-01/
LOCATION:Yee Haw Saloon\, 3915 US-290\, Fredericksburg\, TX\, 78624\, United States
CATEGORIES:Karaoke
ATTACH;FMTTYPE=image/png:https://yeehawsaloon.com/wp-content/uploads/2025/01/Yee-Haw-Saloon-Karaoke.png
END:VEVENT
BEGIN:VEVENT
DTSTART;TZID=UTC:20260502T180000
DTEND;TZID=UTC:20260502T235900
DTSTAMP:20260423T231314
CREATED:20250105T041014Z
LAST-MODIFIED:20251206T023551Z
UID:10000263-1777744800-1777766340@yeehawsaloon.com
SUMMARY:Karaoke Night!
DESCRIPTION:Join us and enjoy a little Karaoke and dancing on our beautiful wide open dance floor!
URL:https://yeehawsaloon.com/event/karaoke-nights-2-2/2026-05-02/
LOCATION:Yee Haw Saloon\, 3915 US-290\, Fredericksburg\, TX\, 78624\, United States
CATEGORIES:Karaoke
ATTACH;FMTTYPE=image/png:https://yeehawsaloon.com/wp-content/uploads/2025/01/Yee-Haw-Saloon-Karaoke.png
END:VEVENT
BEGIN:VEVENT
DTSTART;TZID=UTC:20260508T180000
DTEND;TZID=UTC:20260508T235900
DTSTAMP:20260423T231314
CREATED:20250105T041014Z
LAST-MODIFIED:20251206T023551Z
UID:10000886-1778263200-1778284740@yeehawsaloon.com
SUMMARY:Karaoke Night!
DESCRIPTION:Join us and enjoy a little Karaoke and dancing on our beautiful wide open dance floor!
URL:https://yeehawsaloon.com/event/karaoke-nights-2-2/2026-05-08/
LOCATION:Yee Haw Saloon\, 3915 US-290\, Fredericksburg\, TX\, 78624\, United States
CATEGORIES:Karaoke
ATTACH;FMTTYPE=image/png:https://yeehawsaloon.com/wp-content/uploads/2025/01/Yee-Haw-Saloon-Karaoke.png
END:VEVENT
BEGIN:VEVENT
DTSTART;TZID=UTC:20260509T180000
DTEND;TZID=UTC:20260509T235900
DTSTAMP:20260423T231314
CREATED:20250105T041014Z
LAST-MODIFIED:20251206T023551Z
UID:10000264-1778349600-1778371140@yeehawsaloon.com
SUMMARY:Karaoke Night!
DESCRIPTION:Join us and enjoy a little Karaoke and dancing on our beautiful wide open dance floor!
URL:https://yeehawsaloon.com/event/karaoke-nights-2-2/2026-05-09/
LOCATION:Yee Haw Saloon\, 3915 US-290\, Fredericksburg\, TX\, 78624\, United States
CATEGORIES:Karaoke
ATTACH;FMTTYPE=image/png:https://yeehawsaloon.com/wp-content/uploads/2025/01/Yee-Haw-Saloon-Karaoke.png
END:VEVENT
BEGIN:VEVENT
DTSTART;TZID=UTC:20260515T180000
DTEND;TZID=UTC:20260515T235900
DTSTAMP:20260423T231314
CREATED:20250105T041014Z
LAST-MODIFIED:20251206T023551Z
UID:10000887-1778868000-1778889540@yeehawsaloon.com
SUMMARY:Karaoke Night!
DESCRIPTION:Join us and enjoy a little Karaoke and dancing on our beautiful wide open dance floor!
URL:https://yeehawsaloon.com/event/karaoke-nights-2-2/2026-05-15/
LOCATION:Yee Haw Saloon\, 3915 US-290\, Fredericksburg\, TX\, 78624\, United States
CATEGORIES:Karaoke
ATTACH;FMTTYPE=image/png:https://yeehawsaloon.com/wp-content/uploads/2025/01/Yee-Haw-Saloon-Karaoke.png
END:VEVENT
BEGIN:VEVENT
DTSTART;TZID=UTC:20260516T180000
DTEND;TZID=UTC:20260516T235900
DTSTAMP:20260423T231314
CREATED:20250105T041014Z
LAST-MODIFIED:20251206T023551Z
UID:10000265-1778954400-1778975940@yeehawsaloon.com
SUMMARY:Karaoke Night!
DESCRIPTION:Join us and enjoy a little Karaoke and dancing on our beautiful wide open dance floor!
URL:https://yeehawsaloon.com/event/karaoke-nights-2-2/2026-05-16/
LOCATION:Yee Haw Saloon\, 3915 US-290\, Fredericksburg\, TX\, 78624\, United States
CATEGORIES:Karaoke
ATTACH;FMTTYPE=image/png:https://yeehawsaloon.com/wp-content/uploads/2025/01/Yee-Haw-Saloon-Karaoke.png
END:VEVENT
BEGIN:VEVENT
DTSTART;TZID=UTC:20260522T180000
DTEND;TZID=UTC:20260522T235900
DTSTAMP:20260423T231314
CREATED:20250105T041014Z
LAST-MODIFIED:20251206T023551Z
UID:10000888-1779472800-1779494340@yeehawsaloon.com
SUMMARY:Karaoke Night!
DESCRIPTION:Join us and enjoy a little Karaoke and dancing on our beautiful wide open dance floor!
URL:https://yeehawsaloon.com/event/karaoke-nights-2-2/2026-05-22/
LOCATION:Yee Haw Saloon\, 3915 US-290\, Fredericksburg\, TX\, 78624\, United States
CATEGORIES:Karaoke
ATTACH;FMTTYPE=image/png:https://yeehawsaloon.com/wp-content/uploads/2025/01/Yee-Haw-Saloon-Karaoke.png
END:VEVENT
BEGIN:VEVENT
DTSTART;TZID=UTC:20260523T180000
DTEND;TZID=UTC:20260523T235900
DTSTAMP:20260423T231314
CREATED:20250105T041014Z
LAST-MODIFIED:20251206T023551Z
UID:10000266-1779559200-1779580740@yeehawsaloon.com
SUMMARY:Karaoke Night!
DESCRIPTION:Join us and enjoy a little Karaoke and dancing on our beautiful wide open dance floor!
URL:https://yeehawsaloon.com/event/karaoke-nights-2-2/2026-05-23/
LOCATION:Yee Haw Saloon\, 3915 US-290\, Fredericksburg\, TX\, 78624\, United States
CATEGORIES:Karaoke
ATTACH;FMTTYPE=image/png:https://yeehawsaloon.com/wp-content/uploads/2025/01/Yee-Haw-Saloon-Karaoke.png
END:VEVENT
BEGIN:VEVENT
DTSTART;TZID=UTC:20260529T180000
DTEND;TZID=UTC:20260529T235900
DTSTAMP:20260423T231314
CREATED:20250105T041014Z
LAST-MODIFIED:20251206T023551Z
UID:10000889-1780077600-1780099140@yeehawsaloon.com
SUMMARY:Karaoke Night!
DESCRIPTION:Join us and enjoy a little Karaoke and dancing on our beautiful wide open dance floor!
URL:https://yeehawsaloon.com/event/karaoke-nights-2-2/2026-05-29/
LOCATION:Yee Haw Saloon\, 3915 US-290\, Fredericksburg\, TX\, 78624\, United States
CATEGORIES:Karaoke
ATTACH;FMTTYPE=image/png:https://yeehawsaloon.com/wp-content/uploads/2025/01/Yee-Haw-Saloon-Karaoke.png
END:VEVENT
BEGIN:VEVENT
DTSTART;TZID=UTC:20260530T180000
DTEND;TZID=UTC:20260530T235900
DTSTAMP:20260423T231314
CREATED:20250105T041014Z
LAST-MODIFIED:20251206T023551Z
UID:10000267-1780164000-1780185540@yeehawsaloon.com
SUMMARY:Karaoke Night!
DESCRIPTION:Join us and enjoy a little Karaoke and dancing on our beautiful wide open dance floor!
URL:https://yeehawsaloon.com/event/karaoke-nights-2-2/2026-05-30/
LOCATION:Yee Haw Saloon\, 3915 US-290\, Fredericksburg\, TX\, 78624\, United States
CATEGORIES:Karaoke
ATTACH;FMTTYPE=image/png:https://yeehawsaloon.com/wp-content/uploads/2025/01/Yee-Haw-Saloon-Karaoke.png
END:VEVENT
BEGIN:VEVENT
DTSTART;TZID=UTC:20260605T180000
DTEND;TZID=UTC:20260605T235900
DTSTAMP:20260423T231314
CREATED:20250105T041014Z
LAST-MODIFIED:20251206T023551Z
UID:10000890-1780682400-1780703940@yeehawsaloon.com
SUMMARY:Karaoke Night!
DESCRIPTION:Join us and enjoy a little Karaoke and dancing on our beautiful wide open dance floor!
URL:https://yeehawsaloon.com/event/karaoke-nights-2-2/2026-06-05/
LOCATION:Yee Haw Saloon\, 3915 US-290\, Fredericksburg\, TX\, 78624\, United States
CATEGORIES:Karaoke
ATTACH;FMTTYPE=image/png:https://yeehawsaloon.com/wp-content/uploads/2025/01/Yee-Haw-Saloon-Karaoke.png
END:VEVENT
BEGIN:VEVENT
DTSTART;TZID=UTC:20260606T180000
DTEND;TZID=UTC:20260606T235900
DTSTAMP:20260423T231314
CREATED:20250105T041014Z
LAST-MODIFIED:20251206T023551Z
UID:10000268-1780768800-1780790340@yeehawsaloon.com
SUMMARY:Karaoke Night!
DESCRIPTION:Join us and enjoy a little Karaoke and dancing on our beautiful wide open dance floor!
URL:https://yeehawsaloon.com/event/karaoke-nights-2-2/2026-06-06/
LOCATION:Yee Haw Saloon\, 3915 US-290\, Fredericksburg\, TX\, 78624\, United States
CATEGORIES:Karaoke
ATTACH;FMTTYPE=image/png:https://yeehawsaloon.com/wp-content/uploads/2025/01/Yee-Haw-Saloon-Karaoke.png
END:VEVENT
BEGIN:VEVENT
DTSTART;TZID=UTC:20260612T180000
DTEND;TZID=UTC:20260612T235900
DTSTAMP:20260423T231314
CREATED:20250105T041014Z
LAST-MODIFIED:20251206T023551Z
UID:10000891-1781287200-1781308740@yeehawsaloon.com
SUMMARY:Karaoke Night!
DESCRIPTION:Join us and enjoy a little Karaoke and dancing on our beautiful wide open dance floor!
URL:https://yeehawsaloon.com/event/karaoke-nights-2-2/2026-06-12/
LOCATION:Yee Haw Saloon\, 3915 US-290\, Fredericksburg\, TX\, 78624\, United States
CATEGORIES:Karaoke
ATTACH;FMTTYPE=image/png:https://yeehawsaloon.com/wp-content/uploads/2025/01/Yee-Haw-Saloon-Karaoke.png
END:VEVENT
BEGIN:VEVENT
DTSTART;TZID=UTC:20260613T180000
DTEND;TZID=UTC:20260613T235900
DTSTAMP:20260423T231314
CREATED:20250105T041014Z
LAST-MODIFIED:20251206T023551Z
UID:10000269-1781373600-1781395140@yeehawsaloon.com
SUMMARY:Karaoke Night!
DESCRIPTION:Join us and enjoy a little Karaoke and dancing on our beautiful wide open dance floor!
URL:https://yeehawsaloon.com/event/karaoke-nights-2-2/2026-06-13/
LOCATION:Yee Haw Saloon\, 3915 US-290\, Fredericksburg\, TX\, 78624\, United States
CATEGORIES:Karaoke
ATTACH;FMTTYPE=image/png:https://yeehawsaloon.com/wp-content/uploads/2025/01/Yee-Haw-Saloon-Karaoke.png
END:VEVENT
BEGIN:VEVENT
DTSTART;TZID=UTC:20260619T180000
DTEND;TZID=UTC:20260619T235900
DTSTAMP:20260423T231314
CREATED:20250105T041014Z
LAST-MODIFIED:20251206T023551Z
UID:10000892-1781892000-1781913540@yeehawsaloon.com
SUMMARY:Karaoke Night!
DESCRIPTION:Join us and enjoy a little Karaoke and dancing on our beautiful wide open dance floor!
URL:https://yeehawsaloon.com/event/karaoke-nights-2-2/2026-06-19/
LOCATION:Yee Haw Saloon\, 3915 US-290\, Fredericksburg\, TX\, 78624\, United States
CATEGORIES:Karaoke
ATTACH;FMTTYPE=image/png:https://yeehawsaloon.com/wp-content/uploads/2025/01/Yee-Haw-Saloon-Karaoke.png
END:VEVENT
BEGIN:VEVENT
DTSTART;TZID=UTC:20260620T180000
DTEND;TZID=UTC:20260620T235900
DTSTAMP:20260423T231314
CREATED:20250105T041014Z
LAST-MODIFIED:20251206T023551Z
UID:10000270-1781978400-1781999940@yeehawsaloon.com
SUMMARY:Karaoke Night!
DESCRIPTION:Join us and enjoy a little Karaoke and dancing on our beautiful wide open dance floor!
URL:https://yeehawsaloon.com/event/karaoke-nights-2-2/2026-06-20/
LOCATION:Yee Haw Saloon\, 3915 US-290\, Fredericksburg\, TX\, 78624\, United States
CATEGORIES:Karaoke
ATTACH;FMTTYPE=image/png:https://yeehawsaloon.com/wp-content/uploads/2025/01/Yee-Haw-Saloon-Karaoke.png
END:VEVENT
BEGIN:VEVENT
DTSTART;TZID=UTC:20260626T180000
DTEND;TZID=UTC:20260626T235900
DTSTAMP:20260423T231314
CREATED:20250105T041014Z
LAST-MODIFIED:20251206T023551Z
UID:10000893-1782496800-1782518340@yeehawsaloon.com
SUMMARY:Karaoke Night!
DESCRIPTION:Join us and enjoy a little Karaoke and dancing on our beautiful wide open dance floor!
URL:https://yeehawsaloon.com/event/karaoke-nights-2-2/2026-06-26/
LOCATION:Yee Haw Saloon\, 3915 US-290\, Fredericksburg\, TX\, 78624\, United States
CATEGORIES:Karaoke
ATTACH;FMTTYPE=image/png:https://yeehawsaloon.com/wp-content/uploads/2025/01/Yee-Haw-Saloon-Karaoke.png
END:VEVENT
BEGIN:VEVENT
DTSTART;TZID=UTC:20260627T180000
DTEND;TZID=UTC:20260627T235900
DTSTAMP:20260423T231314
CREATED:20250105T041014Z
LAST-MODIFIED:20251206T023551Z
UID:10000271-1782583200-1782604740@yeehawsaloon.com
SUMMARY:Karaoke Night!
DESCRIPTION:Join us and enjoy a little Karaoke and dancing on our beautiful wide open dance floor!
URL:https://yeehawsaloon.com/event/karaoke-nights-2-2/2026-06-27/
LOCATION:Yee Haw Saloon\, 3915 US-290\, Fredericksburg\, TX\, 78624\, United States
CATEGORIES:Karaoke
ATTACH;FMTTYPE=image/png:https://yeehawsaloon.com/wp-content/uploads/2025/01/Yee-Haw-Saloon-Karaoke.png
END:VEVENT
BEGIN:VEVENT
DTSTART;TZID=UTC:20260703T180000
DTEND;TZID=UTC:20260703T235900
DTSTAMP:20260423T231314
CREATED:20250105T041014Z
LAST-MODIFIED:20251206T023551Z
UID:10000894-1783101600-1783123140@yeehawsaloon.com
SUMMARY:Karaoke Night!
DESCRIPTION:Join us and enjoy a little Karaoke and dancing on our beautiful wide open dance floor!
URL:https://yeehawsaloon.com/event/karaoke-nights-2-2/2026-07-03/
LOCATION:Yee Haw Saloon\, 3915 US-290\, Fredericksburg\, TX\, 78624\, United States
CATEGORIES:Karaoke
ATTACH;FMTTYPE=image/png:https://yeehawsaloon.com/wp-content/uploads/2025/01/Yee-Haw-Saloon-Karaoke.png
END:VEVENT
BEGIN:VEVENT
DTSTART;TZID=UTC:20260704T180000
DTEND;TZID=UTC:20260704T235900
DTSTAMP:20260423T231314
CREATED:20250105T041014Z
LAST-MODIFIED:20251206T023551Z
UID:10000272-1783188000-1783209540@yeehawsaloon.com
SUMMARY:Karaoke Night!
DESCRIPTION:Join us and enjoy a little Karaoke and dancing on our beautiful wide open dance floor!
URL:https://yeehawsaloon.com/event/karaoke-nights-2-2/2026-07-04/
LOCATION:Yee Haw Saloon\, 3915 US-290\, Fredericksburg\, TX\, 78624\, United States
CATEGORIES:Karaoke
ATTACH;FMTTYPE=image/png:https://yeehawsaloon.com/wp-content/uploads/2025/01/Yee-Haw-Saloon-Karaoke.png
END:VEVENT
BEGIN:VEVENT
DTSTART;TZID=UTC:20260710T180000
DTEND;TZID=UTC:20260710T235900
DTSTAMP:20260423T231314
CREATED:20250105T041014Z
LAST-MODIFIED:20251206T023551Z
UID:10000895-1783706400-1783727940@yeehawsaloon.com
SUMMARY:Karaoke Night!
DESCRIPTION:Join us and enjoy a little Karaoke and dancing on our beautiful wide open dance floor!
URL:https://yeehawsaloon.com/event/karaoke-nights-2-2/2026-07-10/
LOCATION:Yee Haw Saloon\, 3915 US-290\, Fredericksburg\, TX\, 78624\, United States
CATEGORIES:Karaoke
ATTACH;FMTTYPE=image/png:https://yeehawsaloon.com/wp-content/uploads/2025/01/Yee-Haw-Saloon-Karaoke.png
END:VEVENT
BEGIN:VEVENT
DTSTART;TZID=UTC:20260711T180000
DTEND;TZID=UTC:20260711T235900
DTSTAMP:20260423T231314
CREATED:20250105T041014Z
LAST-MODIFIED:20251206T023551Z
UID:10000273-1783792800-1783814340@yeehawsaloon.com
SUMMARY:Karaoke Night!
DESCRIPTION:Join us and enjoy a little Karaoke and dancing on our beautiful wide open dance floor!
URL:https://yeehawsaloon.com/event/karaoke-nights-2-2/2026-07-11/
LOCATION:Yee Haw Saloon\, 3915 US-290\, Fredericksburg\, TX\, 78624\, United States
CATEGORIES:Karaoke
ATTACH;FMTTYPE=image/png:https://yeehawsaloon.com/wp-content/uploads/2025/01/Yee-Haw-Saloon-Karaoke.png
END:VEVENT
BEGIN:VEVENT
DTSTART;TZID=UTC:20260717T180000
DTEND;TZID=UTC:20260717T235900
DTSTAMP:20260423T231314
CREATED:20250105T041014Z
LAST-MODIFIED:20251206T023551Z
UID:10000896-1784311200-1784332740@yeehawsaloon.com
SUMMARY:Karaoke Night!
DESCRIPTION:Join us and enjoy a little Karaoke and dancing on our beautiful wide open dance floor!
URL:https://yeehawsaloon.com/event/karaoke-nights-2-2/2026-07-17/
LOCATION:Yee Haw Saloon\, 3915 US-290\, Fredericksburg\, TX\, 78624\, United States
CATEGORIES:Karaoke
ATTACH;FMTTYPE=image/png:https://yeehawsaloon.com/wp-content/uploads/2025/01/Yee-Haw-Saloon-Karaoke.png
END:VEVENT
BEGIN:VEVENT
DTSTART;TZID=UTC:20260718T180000
DTEND;TZID=UTC:20260718T235900
DTSTAMP:20260423T231314
CREATED:20250105T041014Z
LAST-MODIFIED:20251206T023551Z
UID:10000274-1784397600-1784419140@yeehawsaloon.com
SUMMARY:Karaoke Night!
DESCRIPTION:Join us and enjoy a little Karaoke and dancing on our beautiful wide open dance floor!
URL:https://yeehawsaloon.com/event/karaoke-nights-2-2/2026-07-18/
LOCATION:Yee Haw Saloon\, 3915 US-290\, Fredericksburg\, TX\, 78624\, United States
CATEGORIES:Karaoke
ATTACH;FMTTYPE=image/png:https://yeehawsaloon.com/wp-content/uploads/2025/01/Yee-Haw-Saloon-Karaoke.png
END:VEVENT
BEGIN:VEVENT
DTSTART;TZID=UTC:20260724T180000
DTEND;TZID=UTC:20260724T235900
DTSTAMP:20260423T231314
CREATED:20250105T041014Z
LAST-MODIFIED:20251206T023551Z
UID:10000897-1784916000-1784937540@yeehawsaloon.com
SUMMARY:Karaoke Night!
DESCRIPTION:Join us and enjoy a little Karaoke and dancing on our beautiful wide open dance floor!
URL:https://yeehawsaloon.com/event/karaoke-nights-2-2/2026-07-24/
LOCATION:Yee Haw Saloon\, 3915 US-290\, Fredericksburg\, TX\, 78624\, United States
CATEGORIES:Karaoke
ATTACH;FMTTYPE=image/png:https://yeehawsaloon.com/wp-content/uploads/2025/01/Yee-Haw-Saloon-Karaoke.png
END:VEVENT
BEGIN:VEVENT
DTSTART;TZID=UTC:20260725T180000
DTEND;TZID=UTC:20260725T235900
DTSTAMP:20260423T231314
CREATED:20250105T041014Z
LAST-MODIFIED:20251206T023551Z
UID:10000275-1785002400-1785023940@yeehawsaloon.com
SUMMARY:Karaoke Night!
DESCRIPTION:Join us and enjoy a little Karaoke and dancing on our beautiful wide open dance floor!
URL:https://yeehawsaloon.com/event/karaoke-nights-2-2/2026-07-25/
LOCATION:Yee Haw Saloon\, 3915 US-290\, Fredericksburg\, TX\, 78624\, United States
CATEGORIES:Karaoke
ATTACH;FMTTYPE=image/png:https://yeehawsaloon.com/wp-content/uploads/2025/01/Yee-Haw-Saloon-Karaoke.png
END:VEVENT
BEGIN:VEVENT
DTSTART;TZID=UTC:20260731T180000
DTEND;TZID=UTC:20260731T235900
DTSTAMP:20260423T231314
CREATED:20250105T041014Z
LAST-MODIFIED:20251206T023551Z
UID:10000898-1785520800-1785542340@yeehawsaloon.com
SUMMARY:Karaoke Night!
DESCRIPTION:Join us and enjoy a little Karaoke and dancing on our beautiful wide open dance floor!
URL:https://yeehawsaloon.com/event/karaoke-nights-2-2/2026-07-31/
LOCATION:Yee Haw Saloon\, 3915 US-290\, Fredericksburg\, TX\, 78624\, United States
CATEGORIES:Karaoke
ATTACH;FMTTYPE=image/png:https://yeehawsaloon.com/wp-content/uploads/2025/01/Yee-Haw-Saloon-Karaoke.png
END:VEVENT
BEGIN:VEVENT
DTSTART;TZID=UTC:20260801T180000
DTEND;TZID=UTC:20260801T235900
DTSTAMP:20260423T231314
CREATED:20250105T041014Z
LAST-MODIFIED:20251206T023551Z
UID:10000276-1785607200-1785628740@yeehawsaloon.com
SUMMARY:Karaoke Night!
DESCRIPTION:Join us and enjoy a little Karaoke and dancing on our beautiful wide open dance floor!
URL:https://yeehawsaloon.com/event/karaoke-nights-2-2/2026-08-01/
LOCATION:Yee Haw Saloon\, 3915 US-290\, Fredericksburg\, TX\, 78624\, United States
CATEGORIES:Karaoke
ATTACH;FMTTYPE=image/png:https://yeehawsaloon.com/wp-content/uploads/2025/01/Yee-Haw-Saloon-Karaoke.png
END:VEVENT
END:VCALENDAR