BEGIN:VCALENDAR
VERSION:2.0
PRODID:-//Yee Haw Saloon - ECPv6.15.20//NONSGML v1.0//EN
CALSCALE:GREGORIAN
METHOD:PUBLISH
X-WR-CALNAME:Yee Haw Saloon
X-ORIGINAL-URL:https://yeehawsaloon.com
X-WR-CALDESC:Events for Yee Haw Saloon
REFRESH-INTERVAL;VALUE=DURATION:PT1H
X-Robots-Tag:noindex
X-PUBLISHED-TTL:PT1H
BEGIN:VTIMEZONE
TZID:UTC
BEGIN:STANDARD
TZOFFSETFROM:+0000
TZOFFSETTO:+0000
TZNAME:UTC
DTSTART:20250101T000000
END:STANDARD
END:VTIMEZONE
BEGIN:VEVENT
DTSTART;TZID=UTC:20261024T180000
DTEND;TZID=UTC:20261024T235900
DTSTAMP:20260424T071952
CREATED:20250105T041014Z
LAST-MODIFIED:20251206T023551Z
UID:10000288-1792864800-1792886340@yeehawsaloon.com
SUMMARY:Karaoke Night!
DESCRIPTION:Join us and enjoy a little Karaoke and dancing on our beautiful wide open dance floor!
URL:https://yeehawsaloon.com/event/karaoke-nights-2-2/2026-10-24/
LOCATION:Yee Haw Saloon\, 3915 US-290\, Fredericksburg\, TX\, 78624\, United States
CATEGORIES:Karaoke
ATTACH;FMTTYPE=image/png:https://yeehawsaloon.com/wp-content/uploads/2025/01/Yee-Haw-Saloon-Karaoke.png
END:VEVENT
BEGIN:VEVENT
DTSTART;TZID=UTC:20261030T180000
DTEND;TZID=UTC:20261030T235900
DTSTAMP:20260424T071952
CREATED:20250105T041014Z
LAST-MODIFIED:20251206T023551Z
UID:10000911-1793383200-1793404740@yeehawsaloon.com
SUMMARY:Karaoke Night!
DESCRIPTION:Join us and enjoy a little Karaoke and dancing on our beautiful wide open dance floor!
URL:https://yeehawsaloon.com/event/karaoke-nights-2-2/2026-10-30/
LOCATION:Yee Haw Saloon\, 3915 US-290\, Fredericksburg\, TX\, 78624\, United States
CATEGORIES:Karaoke
ATTACH;FMTTYPE=image/png:https://yeehawsaloon.com/wp-content/uploads/2025/01/Yee-Haw-Saloon-Karaoke.png
END:VEVENT
BEGIN:VEVENT
DTSTART;TZID=UTC:20261031T180000
DTEND;TZID=UTC:20261031T235900
DTSTAMP:20260424T071952
CREATED:20250105T041014Z
LAST-MODIFIED:20251206T023551Z
UID:10000289-1793469600-1793491140@yeehawsaloon.com
SUMMARY:Karaoke Night!
DESCRIPTION:Join us and enjoy a little Karaoke and dancing on our beautiful wide open dance floor!
URL:https://yeehawsaloon.com/event/karaoke-nights-2-2/2026-10-31/
LOCATION:Yee Haw Saloon\, 3915 US-290\, Fredericksburg\, TX\, 78624\, United States
CATEGORIES:Karaoke
ATTACH;FMTTYPE=image/png:https://yeehawsaloon.com/wp-content/uploads/2025/01/Yee-Haw-Saloon-Karaoke.png
END:VEVENT
BEGIN:VEVENT
DTSTART;TZID=UTC:20261106T180000
DTEND;TZID=UTC:20261106T235900
DTSTAMP:20260424T071952
CREATED:20250105T041014Z
LAST-MODIFIED:20251206T023551Z
UID:10000912-1793988000-1794009540@yeehawsaloon.com
SUMMARY:Karaoke Night!
DESCRIPTION:Join us and enjoy a little Karaoke and dancing on our beautiful wide open dance floor!
URL:https://yeehawsaloon.com/event/karaoke-nights-2-2/2026-11-06/
LOCATION:Yee Haw Saloon\, 3915 US-290\, Fredericksburg\, TX\, 78624\, United States
CATEGORIES:Karaoke
ATTACH;FMTTYPE=image/png:https://yeehawsaloon.com/wp-content/uploads/2025/01/Yee-Haw-Saloon-Karaoke.png
END:VEVENT
BEGIN:VEVENT
DTSTART;TZID=UTC:20261107T180000
DTEND;TZID=UTC:20261107T235900
DTSTAMP:20260424T071952
CREATED:20250105T041014Z
LAST-MODIFIED:20251206T023551Z
UID:10000290-1794074400-1794095940@yeehawsaloon.com
SUMMARY:Karaoke Night!
DESCRIPTION:Join us and enjoy a little Karaoke and dancing on our beautiful wide open dance floor!
URL:https://yeehawsaloon.com/event/karaoke-nights-2-2/2026-11-07/
LOCATION:Yee Haw Saloon\, 3915 US-290\, Fredericksburg\, TX\, 78624\, United States
CATEGORIES:Karaoke
ATTACH;FMTTYPE=image/png:https://yeehawsaloon.com/wp-content/uploads/2025/01/Yee-Haw-Saloon-Karaoke.png
END:VEVENT
BEGIN:VEVENT
DTSTART;TZID=UTC:20261113T180000
DTEND;TZID=UTC:20261113T235900
DTSTAMP:20260424T071952
CREATED:20250105T041014Z
LAST-MODIFIED:20251206T023551Z
UID:10000913-1794592800-1794614340@yeehawsaloon.com
SUMMARY:Karaoke Night!
DESCRIPTION:Join us and enjoy a little Karaoke and dancing on our beautiful wide open dance floor!
URL:https://yeehawsaloon.com/event/karaoke-nights-2-2/2026-11-13/
LOCATION:Yee Haw Saloon\, 3915 US-290\, Fredericksburg\, TX\, 78624\, United States
CATEGORIES:Karaoke
ATTACH;FMTTYPE=image/png:https://yeehawsaloon.com/wp-content/uploads/2025/01/Yee-Haw-Saloon-Karaoke.png
END:VEVENT
BEGIN:VEVENT
DTSTART;TZID=UTC:20261114T180000
DTEND;TZID=UTC:20261114T235900
DTSTAMP:20260424T071952
CREATED:20250105T041014Z
LAST-MODIFIED:20251206T023551Z
UID:10000291-1794679200-1794700740@yeehawsaloon.com
SUMMARY:Karaoke Night!
DESCRIPTION:Join us and enjoy a little Karaoke and dancing on our beautiful wide open dance floor!
URL:https://yeehawsaloon.com/event/karaoke-nights-2-2/2026-11-14/
LOCATION:Yee Haw Saloon\, 3915 US-290\, Fredericksburg\, TX\, 78624\, United States
CATEGORIES:Karaoke
ATTACH;FMTTYPE=image/png:https://yeehawsaloon.com/wp-content/uploads/2025/01/Yee-Haw-Saloon-Karaoke.png
END:VEVENT
BEGIN:VEVENT
DTSTART;TZID=UTC:20261120T180000
DTEND;TZID=UTC:20261120T235900
DTSTAMP:20260424T071952
CREATED:20250105T041014Z
LAST-MODIFIED:20251206T023551Z
UID:10000914-1795197600-1795219140@yeehawsaloon.com
SUMMARY:Karaoke Night!
DESCRIPTION:Join us and enjoy a little Karaoke and dancing on our beautiful wide open dance floor!
URL:https://yeehawsaloon.com/event/karaoke-nights-2-2/2026-11-20/
LOCATION:Yee Haw Saloon\, 3915 US-290\, Fredericksburg\, TX\, 78624\, United States
CATEGORIES:Karaoke
ATTACH;FMTTYPE=image/png:https://yeehawsaloon.com/wp-content/uploads/2025/01/Yee-Haw-Saloon-Karaoke.png
END:VEVENT
BEGIN:VEVENT
DTSTART;TZID=UTC:20261121T180000
DTEND;TZID=UTC:20261121T235900
DTSTAMP:20260424T071952
CREATED:20250105T041014Z
LAST-MODIFIED:20251206T023551Z
UID:10000292-1795284000-1795305540@yeehawsaloon.com
SUMMARY:Karaoke Night!
DESCRIPTION:Join us and enjoy a little Karaoke and dancing on our beautiful wide open dance floor!
URL:https://yeehawsaloon.com/event/karaoke-nights-2-2/2026-11-21/
LOCATION:Yee Haw Saloon\, 3915 US-290\, Fredericksburg\, TX\, 78624\, United States
CATEGORIES:Karaoke
ATTACH;FMTTYPE=image/png:https://yeehawsaloon.com/wp-content/uploads/2025/01/Yee-Haw-Saloon-Karaoke.png
END:VEVENT
BEGIN:VEVENT
DTSTART;TZID=UTC:20261127T180000
DTEND;TZID=UTC:20261127T235900
DTSTAMP:20260424T071952
CREATED:20250105T041014Z
LAST-MODIFIED:20251206T023551Z
UID:10000915-1795802400-1795823940@yeehawsaloon.com
SUMMARY:Karaoke Night!
DESCRIPTION:Join us and enjoy a little Karaoke and dancing on our beautiful wide open dance floor!
URL:https://yeehawsaloon.com/event/karaoke-nights-2-2/2026-11-27/
LOCATION:Yee Haw Saloon\, 3915 US-290\, Fredericksburg\, TX\, 78624\, United States
CATEGORIES:Karaoke
ATTACH;FMTTYPE=image/png:https://yeehawsaloon.com/wp-content/uploads/2025/01/Yee-Haw-Saloon-Karaoke.png
END:VEVENT
BEGIN:VEVENT
DTSTART;TZID=UTC:20261128T180000
DTEND;TZID=UTC:20261128T235900
DTSTAMP:20260424T071952
CREATED:20250105T041014Z
LAST-MODIFIED:20251206T023551Z
UID:10000293-1795888800-1795910340@yeehawsaloon.com
SUMMARY:Karaoke Night!
DESCRIPTION:Join us and enjoy a little Karaoke and dancing on our beautiful wide open dance floor!
URL:https://yeehawsaloon.com/event/karaoke-nights-2-2/2026-11-28/
LOCATION:Yee Haw Saloon\, 3915 US-290\, Fredericksburg\, TX\, 78624\, United States
CATEGORIES:Karaoke
ATTACH;FMTTYPE=image/png:https://yeehawsaloon.com/wp-content/uploads/2025/01/Yee-Haw-Saloon-Karaoke.png
END:VEVENT
BEGIN:VEVENT
DTSTART;TZID=UTC:20261204T180000
DTEND;TZID=UTC:20261204T235900
DTSTAMP:20260424T071952
CREATED:20250105T041014Z
LAST-MODIFIED:20251206T023551Z
UID:10000916-1796407200-1796428740@yeehawsaloon.com
SUMMARY:Karaoke Night!
DESCRIPTION:Join us and enjoy a little Karaoke and dancing on our beautiful wide open dance floor!
URL:https://yeehawsaloon.com/event/karaoke-nights-2-2/2026-12-04/
LOCATION:Yee Haw Saloon\, 3915 US-290\, Fredericksburg\, TX\, 78624\, United States
CATEGORIES:Karaoke
ATTACH;FMTTYPE=image/png:https://yeehawsaloon.com/wp-content/uploads/2025/01/Yee-Haw-Saloon-Karaoke.png
END:VEVENT
BEGIN:VEVENT
DTSTART;TZID=UTC:20261205T180000
DTEND;TZID=UTC:20261205T235900
DTSTAMP:20260424T071952
CREATED:20250105T041014Z
LAST-MODIFIED:20251206T023551Z
UID:10000294-1796493600-1796515140@yeehawsaloon.com
SUMMARY:Karaoke Night!
DESCRIPTION:Join us and enjoy a little Karaoke and dancing on our beautiful wide open dance floor!
URL:https://yeehawsaloon.com/event/karaoke-nights-2-2/2026-12-05/
LOCATION:Yee Haw Saloon\, 3915 US-290\, Fredericksburg\, TX\, 78624\, United States
CATEGORIES:Karaoke
ATTACH;FMTTYPE=image/png:https://yeehawsaloon.com/wp-content/uploads/2025/01/Yee-Haw-Saloon-Karaoke.png
END:VEVENT
BEGIN:VEVENT
DTSTART;TZID=UTC:20261211T180000
DTEND;TZID=UTC:20261211T235900
DTSTAMP:20260424T071953
CREATED:20250105T041014Z
LAST-MODIFIED:20251206T023551Z
UID:10000917-1797012000-1797033540@yeehawsaloon.com
SUMMARY:Karaoke Night!
DESCRIPTION:Join us and enjoy a little Karaoke and dancing on our beautiful wide open dance floor!
URL:https://yeehawsaloon.com/event/karaoke-nights-2-2/2026-12-11/
LOCATION:Yee Haw Saloon\, 3915 US-290\, Fredericksburg\, TX\, 78624\, United States
CATEGORIES:Karaoke
ATTACH;FMTTYPE=image/png:https://yeehawsaloon.com/wp-content/uploads/2025/01/Yee-Haw-Saloon-Karaoke.png
END:VEVENT
BEGIN:VEVENT
DTSTART;TZID=UTC:20261212T180000
DTEND;TZID=UTC:20261212T235900
DTSTAMP:20260424T071953
CREATED:20250105T041014Z
LAST-MODIFIED:20251206T023551Z
UID:10000295-1797098400-1797119940@yeehawsaloon.com
SUMMARY:Karaoke Night!
DESCRIPTION:Join us and enjoy a little Karaoke and dancing on our beautiful wide open dance floor!
URL:https://yeehawsaloon.com/event/karaoke-nights-2-2/2026-12-12/
LOCATION:Yee Haw Saloon\, 3915 US-290\, Fredericksburg\, TX\, 78624\, United States
CATEGORIES:Karaoke
ATTACH;FMTTYPE=image/png:https://yeehawsaloon.com/wp-content/uploads/2025/01/Yee-Haw-Saloon-Karaoke.png
END:VEVENT
BEGIN:VEVENT
DTSTART;TZID=UTC:20261218T180000
DTEND;TZID=UTC:20261218T235900
DTSTAMP:20260424T071953
CREATED:20250105T041014Z
LAST-MODIFIED:20251206T023551Z
UID:10000918-1797616800-1797638340@yeehawsaloon.com
SUMMARY:Karaoke Night!
DESCRIPTION:Join us and enjoy a little Karaoke and dancing on our beautiful wide open dance floor!
URL:https://yeehawsaloon.com/event/karaoke-nights-2-2/2026-12-18/
LOCATION:Yee Haw Saloon\, 3915 US-290\, Fredericksburg\, TX\, 78624\, United States
CATEGORIES:Karaoke
ATTACH;FMTTYPE=image/png:https://yeehawsaloon.com/wp-content/uploads/2025/01/Yee-Haw-Saloon-Karaoke.png
END:VEVENT
BEGIN:VEVENT
DTSTART;TZID=UTC:20261219T180000
DTEND;TZID=UTC:20261219T235900
DTSTAMP:20260424T071953
CREATED:20250105T041014Z
LAST-MODIFIED:20251206T023551Z
UID:10000296-1797703200-1797724740@yeehawsaloon.com
SUMMARY:Karaoke Night!
DESCRIPTION:Join us and enjoy a little Karaoke and dancing on our beautiful wide open dance floor!
URL:https://yeehawsaloon.com/event/karaoke-nights-2-2/2026-12-19/
LOCATION:Yee Haw Saloon\, 3915 US-290\, Fredericksburg\, TX\, 78624\, United States
CATEGORIES:Karaoke
ATTACH;FMTTYPE=image/png:https://yeehawsaloon.com/wp-content/uploads/2025/01/Yee-Haw-Saloon-Karaoke.png
END:VEVENT
BEGIN:VEVENT
DTSTART;TZID=UTC:20261225T180000
DTEND;TZID=UTC:20261225T235900
DTSTAMP:20260424T071953
CREATED:20250105T041014Z
LAST-MODIFIED:20251206T023551Z
UID:10000919-1798221600-1798243140@yeehawsaloon.com
SUMMARY:Karaoke Night!
DESCRIPTION:Join us and enjoy a little Karaoke and dancing on our beautiful wide open dance floor!
URL:https://yeehawsaloon.com/event/karaoke-nights-2-2/2026-12-25/
LOCATION:Yee Haw Saloon\, 3915 US-290\, Fredericksburg\, TX\, 78624\, United States
CATEGORIES:Karaoke
ATTACH;FMTTYPE=image/png:https://yeehawsaloon.com/wp-content/uploads/2025/01/Yee-Haw-Saloon-Karaoke.png
END:VEVENT
BEGIN:VEVENT
DTSTART;TZID=UTC:20261226T180000
DTEND;TZID=UTC:20261226T235900
DTSTAMP:20260424T071953
CREATED:20250105T041014Z
LAST-MODIFIED:20251206T023551Z
UID:10000297-1798308000-1798329540@yeehawsaloon.com
SUMMARY:Karaoke Night!
DESCRIPTION:Join us and enjoy a little Karaoke and dancing on our beautiful wide open dance floor!
URL:https://yeehawsaloon.com/event/karaoke-nights-2-2/2026-12-26/
LOCATION:Yee Haw Saloon\, 3915 US-290\, Fredericksburg\, TX\, 78624\, United States
CATEGORIES:Karaoke
ATTACH;FMTTYPE=image/png:https://yeehawsaloon.com/wp-content/uploads/2025/01/Yee-Haw-Saloon-Karaoke.png
END:VEVENT
BEGIN:VEVENT
DTSTART;TZID=UTC:20270101T180000
DTEND;TZID=UTC:20270101T235900
DTSTAMP:20260424T071953
CREATED:20250105T041014Z
LAST-MODIFIED:20251206T023551Z
UID:10000920-1798826400-1798847940@yeehawsaloon.com
SUMMARY:Karaoke Night!
DESCRIPTION:Join us and enjoy a little Karaoke and dancing on our beautiful wide open dance floor!
URL:https://yeehawsaloon.com/event/karaoke-nights-2-2/2027-01-01/
LOCATION:Yee Haw Saloon\, 3915 US-290\, Fredericksburg\, TX\, 78624\, United States
CATEGORIES:Karaoke
ATTACH;FMTTYPE=image/png:https://yeehawsaloon.com/wp-content/uploads/2025/01/Yee-Haw-Saloon-Karaoke.png
END:VEVENT
BEGIN:VEVENT
DTSTART;TZID=UTC:20270102T180000
DTEND;TZID=UTC:20270102T235900
DTSTAMP:20260424T071953
CREATED:20250105T041014Z
LAST-MODIFIED:20251206T023551Z
UID:10000298-1798912800-1798934340@yeehawsaloon.com
SUMMARY:Karaoke Night!
DESCRIPTION:Join us and enjoy a little Karaoke and dancing on our beautiful wide open dance floor!
URL:https://yeehawsaloon.com/event/karaoke-nights-2-2/2027-01-02/
LOCATION:Yee Haw Saloon\, 3915 US-290\, Fredericksburg\, TX\, 78624\, United States
CATEGORIES:Karaoke
ATTACH;FMTTYPE=image/png:https://yeehawsaloon.com/wp-content/uploads/2025/01/Yee-Haw-Saloon-Karaoke.png
END:VEVENT
BEGIN:VEVENT
DTSTART;TZID=UTC:20270108T180000
DTEND;TZID=UTC:20270108T235900
DTSTAMP:20260424T071953
CREATED:20250105T041014Z
LAST-MODIFIED:20251206T023551Z
UID:10000921-1799431200-1799452740@yeehawsaloon.com
SUMMARY:Karaoke Night!
DESCRIPTION:Join us and enjoy a little Karaoke and dancing on our beautiful wide open dance floor!
URL:https://yeehawsaloon.com/event/karaoke-nights-2-2/2027-01-08/
LOCATION:Yee Haw Saloon\, 3915 US-290\, Fredericksburg\, TX\, 78624\, United States
CATEGORIES:Karaoke
ATTACH;FMTTYPE=image/png:https://yeehawsaloon.com/wp-content/uploads/2025/01/Yee-Haw-Saloon-Karaoke.png
END:VEVENT
BEGIN:VEVENT
DTSTART;TZID=UTC:20270109T180000
DTEND;TZID=UTC:20270109T235900
DTSTAMP:20260424T071953
CREATED:20250105T041014Z
LAST-MODIFIED:20251206T023551Z
UID:10000299-1799517600-1799539140@yeehawsaloon.com
SUMMARY:Karaoke Night!
DESCRIPTION:Join us and enjoy a little Karaoke and dancing on our beautiful wide open dance floor!
URL:https://yeehawsaloon.com/event/karaoke-nights-2-2/2027-01-09/
LOCATION:Yee Haw Saloon\, 3915 US-290\, Fredericksburg\, TX\, 78624\, United States
CATEGORIES:Karaoke
ATTACH;FMTTYPE=image/png:https://yeehawsaloon.com/wp-content/uploads/2025/01/Yee-Haw-Saloon-Karaoke.png
END:VEVENT
BEGIN:VEVENT
DTSTART;TZID=UTC:20270115T180000
DTEND;TZID=UTC:20270115T235900
DTSTAMP:20260424T071953
CREATED:20250105T041014Z
LAST-MODIFIED:20251206T023551Z
UID:10000922-1800036000-1800057540@yeehawsaloon.com
SUMMARY:Karaoke Night!
DESCRIPTION:Join us and enjoy a little Karaoke and dancing on our beautiful wide open dance floor!
URL:https://yeehawsaloon.com/event/karaoke-nights-2-2/2027-01-15/
LOCATION:Yee Haw Saloon\, 3915 US-290\, Fredericksburg\, TX\, 78624\, United States
CATEGORIES:Karaoke
ATTACH;FMTTYPE=image/png:https://yeehawsaloon.com/wp-content/uploads/2025/01/Yee-Haw-Saloon-Karaoke.png
END:VEVENT
BEGIN:VEVENT
DTSTART;TZID=UTC:20270116T180000
DTEND;TZID=UTC:20270116T235900
DTSTAMP:20260424T071953
CREATED:20250105T041014Z
LAST-MODIFIED:20251206T023551Z
UID:10000300-1800122400-1800143940@yeehawsaloon.com
SUMMARY:Karaoke Night!
DESCRIPTION:Join us and enjoy a little Karaoke and dancing on our beautiful wide open dance floor!
URL:https://yeehawsaloon.com/event/karaoke-nights-2-2/2027-01-16/
LOCATION:Yee Haw Saloon\, 3915 US-290\, Fredericksburg\, TX\, 78624\, United States
CATEGORIES:Karaoke
ATTACH;FMTTYPE=image/png:https://yeehawsaloon.com/wp-content/uploads/2025/01/Yee-Haw-Saloon-Karaoke.png
END:VEVENT
BEGIN:VEVENT
DTSTART;TZID=UTC:20270122T180000
DTEND;TZID=UTC:20270122T235900
DTSTAMP:20260424T071953
CREATED:20250105T041014Z
LAST-MODIFIED:20251206T023551Z
UID:10000923-1800640800-1800662340@yeehawsaloon.com
SUMMARY:Karaoke Night!
DESCRIPTION:Join us and enjoy a little Karaoke and dancing on our beautiful wide open dance floor!
URL:https://yeehawsaloon.com/event/karaoke-nights-2-2/2027-01-22/
LOCATION:Yee Haw Saloon\, 3915 US-290\, Fredericksburg\, TX\, 78624\, United States
CATEGORIES:Karaoke
ATTACH;FMTTYPE=image/png:https://yeehawsaloon.com/wp-content/uploads/2025/01/Yee-Haw-Saloon-Karaoke.png
END:VEVENT
BEGIN:VEVENT
DTSTART;TZID=UTC:20270123T180000
DTEND;TZID=UTC:20270123T235900
DTSTAMP:20260424T071953
CREATED:20250105T041014Z
LAST-MODIFIED:20251206T023551Z
UID:10000301-1800727200-1800748740@yeehawsaloon.com
SUMMARY:Karaoke Night!
DESCRIPTION:Join us and enjoy a little Karaoke and dancing on our beautiful wide open dance floor!
URL:https://yeehawsaloon.com/event/karaoke-nights-2-2/2027-01-23/
LOCATION:Yee Haw Saloon\, 3915 US-290\, Fredericksburg\, TX\, 78624\, United States
CATEGORIES:Karaoke
ATTACH;FMTTYPE=image/png:https://yeehawsaloon.com/wp-content/uploads/2025/01/Yee-Haw-Saloon-Karaoke.png
END:VEVENT
BEGIN:VEVENT
DTSTART;TZID=UTC:20270129T180000
DTEND;TZID=UTC:20270129T235900
DTSTAMP:20260424T071953
CREATED:20250105T041014Z
LAST-MODIFIED:20251206T023551Z
UID:10000924-1801245600-1801267140@yeehawsaloon.com
SUMMARY:Karaoke Night!
DESCRIPTION:Join us and enjoy a little Karaoke and dancing on our beautiful wide open dance floor!
URL:https://yeehawsaloon.com/event/karaoke-nights-2-2/2027-01-29/
LOCATION:Yee Haw Saloon\, 3915 US-290\, Fredericksburg\, TX\, 78624\, United States
CATEGORIES:Karaoke
ATTACH;FMTTYPE=image/png:https://yeehawsaloon.com/wp-content/uploads/2025/01/Yee-Haw-Saloon-Karaoke.png
END:VEVENT
BEGIN:VEVENT
DTSTART;TZID=UTC:20270130T180000
DTEND;TZID=UTC:20270130T235900
DTSTAMP:20260424T071953
CREATED:20250105T041014Z
LAST-MODIFIED:20251206T023551Z
UID:10000302-1801332000-1801353540@yeehawsaloon.com
SUMMARY:Karaoke Night!
DESCRIPTION:Join us and enjoy a little Karaoke and dancing on our beautiful wide open dance floor!
URL:https://yeehawsaloon.com/event/karaoke-nights-2-2/2027-01-30/
LOCATION:Yee Haw Saloon\, 3915 US-290\, Fredericksburg\, TX\, 78624\, United States
CATEGORIES:Karaoke
ATTACH;FMTTYPE=image/png:https://yeehawsaloon.com/wp-content/uploads/2025/01/Yee-Haw-Saloon-Karaoke.png
END:VEVENT
BEGIN:VEVENT
DTSTART;TZID=UTC:20270205T180000
DTEND;TZID=UTC:20270205T235900
DTSTAMP:20260424T071953
CREATED:20250105T041014Z
LAST-MODIFIED:20251206T023551Z
UID:10000925-1801850400-1801871940@yeehawsaloon.com
SUMMARY:Karaoke Night!
DESCRIPTION:Join us and enjoy a little Karaoke and dancing on our beautiful wide open dance floor!
URL:https://yeehawsaloon.com/event/karaoke-nights-2-2/2027-02-05/
LOCATION:Yee Haw Saloon\, 3915 US-290\, Fredericksburg\, TX\, 78624\, United States
CATEGORIES:Karaoke
ATTACH;FMTTYPE=image/png:https://yeehawsaloon.com/wp-content/uploads/2025/01/Yee-Haw-Saloon-Karaoke.png
END:VEVENT
END:VCALENDAR