BEGIN:VCALENDAR
VERSION:2.0
PRODID:-//Yee Haw Saloon - ECPv6.15.20//NONSGML v1.0//EN
CALSCALE:GREGORIAN
METHOD:PUBLISH
X-ORIGINAL-URL:https://yeehawsaloon.com
X-WR-CALDESC:Events for Yee Haw Saloon
REFRESH-INTERVAL;VALUE=DURATION:PT1H
X-Robots-Tag:noindex
X-PUBLISHED-TTL:PT1H
BEGIN:VTIMEZONE
TZID:UTC
BEGIN:STANDARD
TZOFFSETFROM:+0000
TZOFFSETTO:+0000
TZNAME:UTC
DTSTART:20250101T000000
END:STANDARD
END:VTIMEZONE
BEGIN:VEVENT
DTSTART;TZID=UTC:20260530T180000
DTEND;TZID=UTC:20260530T235900
DTSTAMP:20260423T231520
CREATED:20250105T041014Z
LAST-MODIFIED:20251206T023551Z
UID:10000267-1780164000-1780185540@yeehawsaloon.com
SUMMARY:Karaoke Night!
DESCRIPTION:Join us and enjoy a little Karaoke and dancing on our beautiful wide open dance floor!
URL:https://yeehawsaloon.com/event/karaoke-nights-2-2/2026-05-30/
LOCATION:Yee Haw Saloon\, 3915 US-290\, Fredericksburg\, TX\, 78624\, United States
CATEGORIES:Karaoke
ATTACH;FMTTYPE=image/png:https://yeehawsaloon.com/wp-content/uploads/2025/01/Yee-Haw-Saloon-Karaoke.png
END:VEVENT
END:VCALENDAR